    BEGIN:VCALENDAR
VERSION:2.0
PRODID:-//HERZOG Kultur- &amp; Stadtmagazin - ECPv4.9.2//NONSGML v1.0//EN
CALSCALE:GREGORIAN
METHOD:PUBLISH
X-WR-CALNAME:HERZOG Kultur- &amp; Stadtmagazin
X-ORIGINAL-URL:https://www.herzog-magazin.de
X-WR-CALDESC:Veranstaltungen im HERZOG Kultur- &amp; Stadtmagazin
BEGIN:VEVENT
DTSTART;TZID=Europe/Berlin:20190928T073000
DTEND;TZID=Europe/Berlin:20190928T200000
DTSTAMP:20260421T044404
CREATED:20190919T103204Z
LAST-MODIFIED:20190919T103204Z
UID:29335-1569655800-1569700800@www.herzog-magazin.de
SUMMARY:Jülicher Geschichtsverein: Tagesfahrt ins mittelalterliche Ruhrgebiet
DESCRIPTION:Der Jülicher Geschichtsverein 1923 e.V. bietet am Samstag\, 28. September\, eine Tagesfahrt nach Dortmund und Herne zu Thema „Das Ruhrgebiet im Mittelalter“ an. Das im 19. Jahrhundert entstandene Ruhrgebiet verbindet man vor allem mit seiner schwerindustriellen Vergangenheit und Gegenwart.  \nTatsächlich haben Städte wie Dortmund eine weit ins Mittelalter zurückreichende Geschichte. Die vier mittelalterlichen Kirchen in der Dortmunder Innenstadt – St. Reinoldi\, St. Marien\, St. Petri und Propstei – sind Zeugen der über 1100-jährigen Geschichte der Stadt. Mit ihren beeindruckenden Altären und Kunstwerken sind sie die Spiegel vergangener Epochen. Gleichzeitig prägen sie bis heute nicht nur die Silhouette der Stadt\, sondern auch das Leben der Menschen. Auf unserem Rundgang erfahren wir vom „Goldenen Wunder“ von Dortmund. Wir tauchen ein in die Kunstfertigkeit und Farbenfreude\, mit der uns mittelalterliche Künstler auch heute beindrucken. Wir bestaunen die älteste erhaltene Darstellung Dortmunds und den farbenprächtigen Marienalter des Conrad von Soest. Außergewöhnliche Orte inmitten des innerstädtischen Trubels. \nDas LWL-Museum für Archäologie im benachbarten Herne zeigt die Sonderausstellung „Pest!“ und damit eine der Schattenseiten des Mittelalters. Von der Steinzeit über die Spätantike und vom „Schwarzen Tod“ des Mittelalters bis zum jüngsten Ausbruch auf Madagaskar: Die Pest ist eine Seuche\, die die Menschheit durch alle Epochen ihrer Geschichte begleitet hat und immer noch begleitet. Rund um den Globus forderte sie Millionen von Opfern und führte dadurch zu tiefgreifenden Veränderungen in der Gesellschaft. Die Ausstellung will die Geschichte der Pest in ihren globalen Auswirkungen erörtern. Dabei werden der deutschsprachige Raum und weitere betroffene Regionen Europas und der Welt dargestellt. \nInteressenten an einer Teilnahme melden sich bitte telefonische oder per Mail bei Helga Schmucker an (Tel. 02463 / 5489\, eMail Eschmucker@t-online.de).  \n
URL:https://www.herzog-magazin.de/event/juelicher-geschichtsverein-tagesfahrt-ins-mittelalterliche-ruhrgebiet/
LOCATION:NRW\, Deutschland
CATEGORIES:Geschichte,kulturelle Bildung
ATTACH;FMTTYPE=image/jpeg:https://www.herzog-magazin.de/wp-content/uploads/2018/01/Juelicher-Geschichtsverein-Logo.jpg
ORGANIZER;CN="J%C3%BClicher%20Geschichtsverein%201923%20e.V.":MAILTO:service@juelicher-geschichtsverein.de
END:VEVENT
END:VCALENDAR