    BEGIN:VCALENDAR
VERSION:2.0
PRODID:-//HERZOG Kultur- &amp; Stadtmagazin - ECPv4.9.2//NONSGML v1.0//EN
CALSCALE:GREGORIAN
METHOD:PUBLISH
X-WR-CALNAME:HERZOG Kultur- &amp; Stadtmagazin
X-ORIGINAL-URL:https://www.herzog-magazin.de
X-WR-CALDESC:Veranstaltungen im HERZOG Kultur- &amp; Stadtmagazin
BEGIN:VEVENT
DTSTART;TZID=Europe/Berlin:20221104T163000
DTEND;TZID=Europe/Berlin:20221104T163000
DTSTAMP:20260422T000540
CREATED:20210921T142634Z
LAST-MODIFIED:20240226T092317Z
UID:66465-1667579400-1667579400@www.herzog-magazin.de
SUMMARY:Jülicher Stammtisch für LGBTQIANP+
DESCRIPTION:Enby\, Aro\, Ace oder Questioning? Für Menschen\, die sich mit diesem Vokabular auskennen und sich vielleicht auch dort heimisch fühlen\, gibt es in Jülich einen Nicht-binär\, Aro\, Ace & Questioning Stammtisch. Dieser findet hybrid und barrierefrei in den Räumen der KSG\, Haubourdinstraße 40\, und auf dem Discord-Server an jedem ersten Freitag im Monat ab 16.30 Uhr statt. \nAngesprochen sind Menschen\, die sich als nicht-binär\, arospec oder acespec identifizieren\, aber auch diejenigen\, die sich (noch) nicht sicher über eine Ausrichtung sind. Sie können gerne bei der lockeren Vernetzung zum Austausch und Kennenlernen vorbeischauen.  \nWer erst einmal abwarten möchte\, kann virtuell Kontakt aufnehmen und dem zugehörigen Discord Server beitreten. Anmeldungen und Fragen sind per E-Mail an queerstammtisch-juelich@tutanota.de möglich. Auf dem Discord Server gibt es auch einen Bereich für alle Identitäten und romantischen und sexuellen Orientierungen. \n
URL:https://www.herzog-magazin.de/event/juelicher-queerstammtisch/2022-11-04/
LOCATION:KSG Jülich\, Haubourdinstr. 40\, Jülich\, NRW\, 52428\, Deutschland
CATEGORIES:Informationsveranstaltung,Präsenz-Veranstaltung,Rat & Hilfe,Sonstiges,Versammlungen
ATTACH;FMTTYPE=image/jpeg:https://www.herzog-magazin.de/wp-content/uploads/2021/09/Queerstammtisch-Juelich_KSG.jpg
ORGANIZER;CN="KSG%20J%C3%BClich":MAILTO:ksg.juelich@fh-aachen.de
END:VEVENT
END:VCALENDAR