    BEGIN:VCALENDAR
VERSION:2.0
PRODID:-//HERZOG Kultur- &amp; Stadtmagazin - ECPv4.9.2//NONSGML v1.0//EN
CALSCALE:GREGORIAN
METHOD:PUBLISH
X-WR-CALNAME:HERZOG Kultur- &amp; Stadtmagazin
X-ORIGINAL-URL:https://www.herzog-magazin.de
X-WR-CALDESC:Veranstaltungen im HERZOG Kultur- &amp; Stadtmagazin
BEGIN:VEVENT
DTSTART;TZID=Europe/Berlin:20240121T200000
DTEND;TZID=Europe/Berlin:20240121T200000
DTSTAMP:20260419T153448
CREATED:20231208T124749Z
LAST-MODIFIED:20231208T124749Z
UID:119392-1705867200-1705867200@www.herzog-magazin.de
SUMMARY:Jülicher Schlosskonzerte: Cello & Klavier
DESCRIPTION:Das erste Jülicher Schlosskonzert im neuen Jahr findet schon am Sonntag\, 21. Januar\, um 20 Uhr in der Schlosskpelle der Zitadelle Jülich statt. Der charismatische Cellist Javier Huerta Gimeno\, der in Jülich im Mai 2022 zusammen mit dem Collegium Musicum das Cellokonzert von Antonín Dvorak aufführte\, musste leider aus gesundheitlichen Gründen absagen. An seiner Stelle wird ein junger Musikerkollege\, der katalanische Cellist Roger Morelló-Ros\, treten und das vereinbarte Musikprogramm zur Aufführung bringen. \nAm Klavier begleitet wird er wie geplant von der georgischen Pianistin Meri Tschabaschwili. Die beiden sympathischen Musiker beginnen den Abend mit zwei Werken spanischer Komponisten (Granados und Manuel de Falla) und fünf Stücken im Volkston von Robert Schumann. Nach der Pause erklingt die Cellosonate Nr. 1 in e-moll op. 38 von Johannes Brahms. \nWenige Restkarten sind zu 17\,50 Euro online unter tickets@schlosskonzerte-juelich.de erhältlich. Wenn vorhanden\, werden sie zu 20 Euro an der Abendkasse angeboten. \nAlle aktuellen Infos sind auf www.schlosskonzerte-juelich.de abrufbar. \n
URL:https://www.herzog-magazin.de/event/juelicher-schlosskonzerte-cello-klavier/
LOCATION:Schlosskapelle der Zitadelle\, Schloßstraße\, Jülich\, NRW\, 52428\, Deutschland
CATEGORIES:Musik,Musik & Konzerte
ATTACH;FMTTYPE=image/jpeg:https://www.herzog-magazin.de/wp-content/uploads/2023/03/Schlosskapelle.jpg
ORGANIZER;CN="J%C3%BClicher%20Schlosskonzerte%20e.V.":MAILTO:dr.weitz@gmail.com
END:VEVENT
END:VCALENDAR