    BEGIN:VCALENDAR
VERSION:2.0
PRODID:-//HERZOG Kultur- &amp; Stadtmagazin - ECPv4.9.2//NONSGML v1.0//EN
CALSCALE:GREGORIAN
METHOD:PUBLISH
X-WR-CALNAME:HERZOG Kultur- &amp; Stadtmagazin
X-ORIGINAL-URL:https://www.herzog-magazin.de
X-WR-CALDESC:Veranstaltungen im HERZOG Kultur- &amp; Stadtmagazin
BEGIN:VEVENT
DTSTART;TZID=Europe/Berlin:20190615T200000
DTEND;TZID=Europe/Berlin:20190615T000000
DTSTAMP:20260422T211842
CREATED:20190516T112209Z
LAST-MODIFIED:20190516T112209Z
UID:24898-1560628800-1560556800@www.herzog-magazin.de
SUMMARY:Kai Kramosta: Zu Spesen aufgelegt
DESCRIPTION:Die ultimative Comedy über Handwerker – passt\, wackelt und hat Luft! Wer kennt sie nicht\, die liebenswerten Bau-Athleten\, die immer irgendwann „zwischen 8 und 18 Uhr“ kommen und denen Sätze wie „Normal müsste dat halten!“ oder „Dat war schon vorher kaputt!“ quittungsfrei über die Lippen gleiten. Nun ist es Zeit\, dem Handwerk aufs Mundwerk zu schauen.  \nDas erste Kabarettprogramm über Handwerker läuft am Samstag\, 15. Juni\, 20:00 Uhr im Kulturbahnhof Jülich; und die Prototypen dieser Gattung findet man auf dem Dorf. Betreten der Lachbaustelle erlaubt\, hier bleibt kein Neubau trocken: Handwerkerpower mit Handwerker Peters – HP. Er erzählt in schönster Mundart von seinem alltäglichen Bauwahnsinn und leutseligem Lebenskosmos.  \nHinter HP steckt der Komiker Kai Kramosta – ausgezeichnet als „Comedian & Kabarettist des Jahres“ vom Deutschen Künstlermagazin. Die Eifelaner Comedykugel findet seinen Ehepartner\, seinen Schwager\, seinen örtlichen Handwerker oder gar sich selbst wieder. Hier fühlt sich jeder wohl und wie zuhause\, denn die Handwerker sind überall gleich zu Spesen aufgelegt. Der Kunde ist König\, aber Bauarbeiter sind strikt gegen die Monarchie. \nBeginn ist um 20:00 Uhr\, Einlass wird ab 19:30 Uhr gewährt. \n
URL:https://www.herzog-magazin.de/event/kai-kramosta-zu-spesen-aufgelegt/
LOCATION:Kulturbahnhof (KuBa) Jülich\, Bahnhofsstraße 13\, Jülich\, NRW\, 52428\, Deutschland
GEO:50.91828;6.36768
X-APPLE-STRUCTURED-LOCATION;VALUE=URI;X-ADDRESS=Kulturbahnhof (KuBa) Jülich Bahnhofsstraße 13 Jülich NRW 52428 Deutschland;X-APPLE-RADIUS=500;X-TITLE=Bahnhofsstraße 13:geo:6.36768,50.91828
CATEGORIES:Kabarett & Comedy
ATTACH;FMTTYPE=image/jpeg:https://www.herzog-magazin.de/wp-content/uploads/2019/05/Kai-Kramosta_NormalHandwerker.jpg
ORGANIZER;CN="Kulturbahnhof%20J%C3%BClich":MAILTO:info@kuba-juelich.de
END:VEVENT
END:VCALENDAR