    BEGIN:VCALENDAR
VERSION:2.0
PRODID:-//HERZOG Kultur- &amp; Stadtmagazin - ECPv4.9.2//NONSGML v1.0//EN
CALSCALE:GREGORIAN
METHOD:PUBLISH
X-WR-CALNAME:HERZOG Kultur- &amp; Stadtmagazin
X-ORIGINAL-URL:https://www.herzog-magazin.de
X-WR-CALDESC:Veranstaltungen im HERZOG Kultur- &amp; Stadtmagazin
BEGIN:VEVENT
DTSTART;TZID=Europe/Berlin:20250315T100000
DTEND;TZID=Europe/Berlin:20250315T130000
DTSTAMP:20260425T191130
CREATED:20250305T112339Z
LAST-MODIFIED:20250305T112339Z
UID:143830-1742032800-1742043600@www.herzog-magazin.de
SUMMARY:Karriere und Croissants
DESCRIPTION:Die Kindertagesbetreuung Kreismäuse AöR lädt alle Interessierten am Samstag\, 15. März\, von 10 bis 13 Uhr zu einem besonderen Karrierefrühstück ein. Unter dem Motto „Karriere & Croissants“ haben pädagogische Fachkräfte\, angehende Auszubildende und Quereinsteiger/-innen die Gelegenheit\, die Kreismäuse AöR (Anstalt des öffentlichen Rechts) als Arbeitgeberin mit ihren 45 Kitas im Kreis Düren kennenzulernen. \nIm Familienzentrum Kreismäuse\, Marienstraße 17 in Düren\, erwartet die Teilnehmenden ein informatives und persönliches Treffen in entspannter Atmosphäre. Neben spannenden Einblicken in die pädagogische Arbeit der Kreismäuse gibt es die Möglichkeit\, direkt mit dem Team vor Ort ins Gespräch zu kommen. Interessierte erhalten umfassende Informationen zu Karriere- und Ausbildungsmöglichkeiten sowie zu den vielseitigen Tätigkeitsfeldern der frühkindlichen Bildung in unseren Kindertageseinrichtungen. \nDie Kindertageseinrichtung Kreismäuse AöR freut sich auf den Austausch mit potenziellen neuen Kolleginnen und Kollegen und lädt herzlich zur Teilnahme ein. Eine Anmeldung ist nicht erforderlich. \n
URL:https://www.herzog-magazin.de/event/karriere-und-croissants/
LOCATION:Allgemeiner Ort\, NRW\, Deutschland
CATEGORIES:Ausbildung / Beruflicher Einstieg / Lehre,Beruf,Informationsveranstaltung,Pädagogik
ATTACH;FMTTYPE=image/jpeg:https://www.herzog-magazin.de/wp-content/uploads/2025/02/Kreismäuse_web.jpg
ORGANIZER;CN="Kindertagesbetreuung%20Kreism%C3%A4use%20A%C3%B6R":MAILTO:kreismaeuse-aoer@kita-kreis-dueren.de
END:VEVENT
END:VCALENDAR