    BEGIN:VCALENDAR
VERSION:2.0
PRODID:-//HERZOG Kultur- &amp; Stadtmagazin - ECPv4.9.2//NONSGML v1.0//EN
CALSCALE:GREGORIAN
METHOD:PUBLISH
X-WR-CALNAME:HERZOG Kultur- &amp; Stadtmagazin
X-ORIGINAL-URL:https://www.herzog-magazin.de
X-WR-CALDESC:Veranstaltungen im HERZOG Kultur- &amp; Stadtmagazin
BEGIN:VEVENT
DTSTART;TZID=Europe/Berlin:20221210T100000
DTEND;TZID=Europe/Berlin:20221210T100000
DTSTAMP:20260420T032246
CREATED:20221116T183538Z
LAST-MODIFIED:20221116T183538Z
UID:93744-1670666400-1670666400@www.herzog-magazin.de
SUMMARY:Kinderlesung mit Jonas Kozinowski
DESCRIPTION:Eine interaktive Lesung für Kinder zum Thema Fußball findet am Samstag\, 10. Dezember\, jeweils um 10 und um 12 Uhr in der Stadtbücherei Jülich statt. Zu Gast ist der Autor Jonas Kozinowski mit seinem Buch zum Thema Fußball aus der Reihe „Was ist was“.  \nVon der Formulierung der ersten Fußballregeln bis hin zur Aufstellung der Jahrhundertelf liefert das Buch „Was ist was Fußball“ einen Überblick über die Entwicklung der erfolgreichsten Sportart der Welt. Es stellt die Stars auf dem Platz sowie am Spielfeldrand vor\, listet legendäre Klubs im In- und Ausland auf und wirft einen Blick hinter die glitzernde Kulisse der Fußballwelt. \nJonas Kozinowski ist studierter Medienwissenschaftler und Mitinhaber einer Medienproduktionsfirma\, für die er als Regisseur und Redakteur arbeitet. Er ist Autor zahlreicher Bücher über Fußball und beschäftigt sich seit seiner Kindheit mit dem runden Leder. Sein Band „Was ist was Fußball“ wurde auf der Leipziger Buchmesse 2017 mit dem Lese-Kicker ausgezeichnet und erschien im Juli 2022 in einer aktualisierten Neuauflage. Bei der interaktiven Kinderlesung über Fußball hat Jonas Kozinowski nicht nur viele Fragen im Gepäck\, sondern auch die passenden Antworten.  \nWer sein Wissen über Fußball testen möchte und einen echten Fußballexperten kennenlernen will\, um auch eigene Fragen zu stellen\, erhält Karten zur Lesung ab sofort in der Stadtbücherei für 3 Euro. Eine Reservierung ist über die E-Mail Stadtbücherei@juelich.de oder unter Tel. 02461 / 93 63 63 möglich. \n
URL:https://www.herzog-magazin.de/event/kinderlesung-mit-jonas-kozinowski/
LOCATION:Stadtbücherei Jülich\, Kleine Rurstraße 42\, Jülich\, NRW\, 52428\, Deutschland
GEO:50.9209335;6.3559376
X-APPLE-STRUCTURED-LOCATION;VALUE=URI;X-ADDRESS=Stadtbücherei Jülich Kleine Rurstraße 42 Jülich NRW 52428 Deutschland;X-APPLE-RADIUS=500;X-TITLE=Kleine Rurstraße 42:geo:6.3559376,50.9209335
CATEGORIES:Literatur
ATTACH;FMTTYPE=image/jpeg:https://www.herzog-magazin.de/wp-content/uploads/2022/11/Fussball-–-Interaktive-Kinderlesung-Foto-Tessloffverlag.jpg
ORGANIZER;CN="Stadt%20J%C3%BClich":MAILTO:info@juelich.de
END:VEVENT
END:VCALENDAR