    BEGIN:VCALENDAR
VERSION:2.0
PRODID:-//HERZOG Kultur- &amp; Stadtmagazin - ECPv4.9.2//NONSGML v1.0//EN
CALSCALE:GREGORIAN
METHOD:PUBLISH
X-WR-CALNAME:HERZOG Kultur- &amp; Stadtmagazin
X-ORIGINAL-URL:https://www.herzog-magazin.de
X-WR-CALDESC:Veranstaltungen im HERZOG Kultur- &amp; Stadtmagazin
BEGIN:VEVENT
DTSTART;TZID=Europe/Berlin:20250627T160000
DTEND;TZID=Europe/Berlin:20250627T160000
DTSTAMP:20260421T211020
CREATED:20250522T100406Z
LAST-MODIFIED:20250522T100406Z
UID:147853-1751040000-1751040000@www.herzog-magazin.de
SUMMARY:Kindermusical in der Propsteikirche
DESCRIPTION:Der „Kinderchor der Pfarrei Heilig Geist an der KGS Jülich“ wird zum Abschluss des Schuljahres wieder ein Musical zur Aufführung bringen: „Jona\, unterwegs im Auftrag des Herrn“ \nDas Musical spielt am Freitag\, 27. Juni\, um 16 Uhr in der Propsteikirche. \nAlle kleinen und großen Interessierten sind herzlich eingeladen. Die Kinder aus den Schulstufen 1 bis 4 erzählen in Wort\, Spiel und vor allem mit Gesang die biblische Geschichte von Jona und seinen Erlebnissen. \nDie Erzählung beginnt mit dem Auftrag Gottes an Jona\, nach Ninive zu gehen\, und malt die Geschichte bis zum barmherzigen Ende kindgerecht aus. \nDer Eintritt zum Kindermusical ist frei. \n
URL:https://www.herzog-magazin.de/event/kindermusical-in-der-propsteikirche/
LOCATION:Propsteikirche\, Kirchplatz\, Jülich\, NRW\, 52428\, Deutschland
GEO:50.9415142;6.3042468
X-APPLE-STRUCTURED-LOCATION;VALUE=URI;X-ADDRESS=Propsteikirche Kirchplatz Jülich NRW 52428 Deutschland;X-APPLE-RADIUS=500;X-TITLE=Kirchplatz:geo:6.3042468,50.9415142
CATEGORIES:für Familien,für Kinder,Musik,Religion
ATTACH;FMTTYPE=image/jpeg:https://www.herzog-magazin.de/wp-content/uploads/2026/03/PfarrkircheIMG_9327.jpg
ORGANIZER;CN="Kath.%20Pfarrei%20Heilig%20Geist%20J%C3%BClich":MAILTO:pfarramt@heilig-geist-juelich.de
END:VEVENT
END:VCALENDAR