    BEGIN:VCALENDAR
VERSION:2.0
PRODID:-//HERZOG Kultur- &amp; Stadtmagazin - ECPv4.9.2//NONSGML v1.0//EN
CALSCALE:GREGORIAN
METHOD:PUBLISH
X-WR-CALNAME:HERZOG Kultur- &amp; Stadtmagazin
X-ORIGINAL-URL:https://www.herzog-magazin.de
X-WR-CALDESC:Veranstaltungen im HERZOG Kultur- &amp; Stadtmagazin
BEGIN:VEVENT
DTSTART;TZID=Europe/Berlin:20230916T100000
DTEND;TZID=Europe/Berlin:20230916T140000
DTSTAMP:20260423T222525
CREATED:20230817T131825Z
LAST-MODIFIED:20230817T131825Z
UID:112552-1694858400-1694872800@www.herzog-magazin.de
SUMMARY:Kindersachen-Flohmarkt im Andreashaus
DESCRIPTION:Einen Kindersachen-Flohmarkt richtet der Förderverein des Kindergartens St. Marien Jülich am Samstag\, 16. September\, aus. Der Flohmarkt findet von 10 bis 14 Uhr im Andreashaus in Lich-Steinstraß statt.\n \nVerkauft werden Baby-\, Kinder-\, Teenie- sowie Umstandsmode. Auch Kinderwagen\, Autositze\, Hochstühle\, Spielsachen\, Bücher können für kleine Preise erworben werden.\n \nFür das leibliche Wohl ist ebenfalls gesorgt. Gerne können Besuchende während des Trödelmarktes in der Cafeteria herzhafte Speisen\, selbstgebackene Kuchen und verschiedene Getränke genießen. \n
URL:https://www.herzog-magazin.de/event/kindersachen-flohmarkt-im-andreashaus/
LOCATION:Andreashaus\, Matthiasplatz\, Lich-Steinstraß\, NRW\, 52428\, Deutschland
GEO:50.9302356;6.3783497
X-APPLE-STRUCTURED-LOCATION;VALUE=URI;X-ADDRESS=Andreashaus Matthiasplatz Lich-Steinstraß NRW 52428 Deutschland;X-APPLE-RADIUS=500;X-TITLE=Matthiasplatz:geo:6.3783497,50.9302356
CATEGORIES:Essen & Trinken,Festival & Markt,Für Eltern
ATTACH;FMTTYPE=image/jpeg:https://www.herzog-magazin.de/wp-content/uploads/2018/09/trödel.jpg
ORGANIZER;CN="F%C3%B6rderverein%20Kindergarten%20St.%20Marien":MAILTO:fv.kiga.stmarien@gmail.com
END:VEVENT
END:VCALENDAR