    BEGIN:VCALENDAR
VERSION:2.0
PRODID:-//HERZOG Kultur- &amp; Stadtmagazin - ECPv4.9.2//NONSGML v1.0//EN
CALSCALE:GREGORIAN
METHOD:PUBLISH
X-WR-CALNAME:HERZOG Kultur- &amp; Stadtmagazin
X-ORIGINAL-URL:https://www.herzog-magazin.de
X-WR-CALDESC:Veranstaltungen im HERZOG Kultur- &amp; Stadtmagazin
BEGIN:VEVENT
DTSTART;TZID=Europe/Berlin:20190927T163000
DTEND;TZID=Europe/Berlin:20190927T190000
DTSTAMP:20260421T132143
CREATED:20190813T134023Z
LAST-MODIFIED:20190813T134023Z
UID:27419-1569601800-1569610800@www.herzog-magazin.de
SUMMARY:Kindersachenflohmarkt bei den kleinen Strolchen
DESCRIPTION:Das Familienzentrum „Die kleinen Strolche“ veranstaltet am Freitag\, 27. September\, zwischen 16.30 und 19.00 Uhr einen Kindersachenflohmarkt und Tag der offenen Tür in der Röntgenstraße 17. Gäste können sich mit Waffeln oder Laugengebäck stärken oder haben die Möglichkeit\, Kinderkleidung\, Spielzeug und ähnliches zu erwerben oder zu verkaufen. Zudem erhalten Interessierte Informationen zur Einrichtung und können sich einen kleinen Einblick in die Arbeit verschaffen. \nAnmeldung für einen Verkaufsstand über die Email evkita@evkg-juelich.de bei Ansprechpartnerin Frau Gertrud Gärtner. Es wird eine Standgebühr von 5 Euro erhoben.  \n
URL:https://www.herzog-magazin.de/event/kindersachenflohmarkt-bei-den-kleinen-strolchen/
LOCATION:Familienzentrum Kleine Strolche\, Röntgenstraße 17\, Jülich\, NRW\, 52428\, Deutschland
CATEGORIES:für Familien,für Kinder
ATTACH;FMTTYPE=image/jpeg:https://www.herzog-magazin.de/wp-content/uploads/2018/01/bazaar-2846242.jpg
ORGANIZER;CN="Familienzentrum%20Kleine%20Strolche":MAILTO:evkita@Levkg-juelich.de
END:VEVENT
END:VCALENDAR