    BEGIN:VCALENDAR
VERSION:2.0
PRODID:-//HERZOG Kultur- &amp; Stadtmagazin - ECPv4.9.2//NONSGML v1.0//EN
CALSCALE:GREGORIAN
METHOD:PUBLISH
X-WR-CALNAME:HERZOG Kultur- &amp; Stadtmagazin
X-ORIGINAL-URL:https://www.herzog-magazin.de
X-WR-CALDESC:Veranstaltungen im HERZOG Kultur- &amp; Stadtmagazin
BEGIN:VEVENT
DTSTART;TZID=Europe/Berlin:20231030T100000
DTEND;TZID=Europe/Berlin:20231030T100000
DTSTAMP:20260420T084823
CREATED:20231022T170441Z
LAST-MODIFIED:20231022T170441Z
UID:116776-1698660000-1698660000@www.herzog-magazin.de
SUMMARY:Kindertheater: Die Konferenz der Tiere
DESCRIPTION:Mit seinem Stück „Die Konferenz der Tiere“ gastiert das DAS DA Theater aus Aachen am Montag\, 30. Oktober\, um 10 Uhr im Kulturbahnhof in Jülich. Das Familienstück ist für alle begeisterten Kindern ab 6 Jahren. Die Geschichte ist nach Erich Kästner mit Musik von Christoph Eisenburger. \nKlima\, Kriege\, Katastrophen: Der Welt geht es schlecht. Doch statt sie zu retten und damit vor dem Untergang zu bewahren\, machen die Menschen nur eins: Sie reden und diskutieren auf unzähligen Konferenzen\, und das ohne Ende und ohne etwas zu verändern. Da reicht es den Tieren schließlich. „Wir werden die Welt schon in Ordnung bringen! Wir sind ja schließlich keine Menschen!“ Mit diesem Anspruch berufen Löwin Alia\, Elefant Oskar und Giraffe Leyla die erste weltweite Konferenz der Tiere ein.Das tierische Treffen soll die Menschen dazu bewegen\, endlich aktiver zu werden. Schließlich geht es um die Zukunft aller. Und vor allem: „Es geht um die Kinder!“ \nMit seinem Kinderroman „Die Konferenz der Tiere“ entwarf Erich Kästner bereits 1949 eine fantasievolle Utopie\, deren Botschaft auch mehr als 70 Jahre später immer noch wichtig ist: Die Welt soll für alle Lebewesen ein Ort des respektvollen\, friedlichen und lebenswerten Miteinanders sein. \nTickets kosten im Vorverkauf 6 Euro für Kinder\, 8 Euro für Erwachsene. Gruppenanmeldungen sind über das Kulturbüro der Stadt Jülich unter 02461 / 63-416 oder -243 sowie per E-Mail an Kulturbuero@juelich.de möglich. \n
URL:https://www.herzog-magazin.de/event/kindertheater-die-konferenz-der-tiere/
LOCATION:Kulturbahnhof (KuBa) Jülich\, Bahnhofsstraße 13\, Jülich\, NRW\, 52428\, Deutschland
GEO:50.91828;6.36768
X-APPLE-STRUCTURED-LOCATION;VALUE=URI;X-ADDRESS=Kulturbahnhof (KuBa) Jülich Bahnhofsstraße 13 Jülich NRW 52428 Deutschland;X-APPLE-RADIUS=500;X-TITLE=Bahnhofsstraße 13:geo:6.36768,50.91828
CATEGORIES:für Familien,für Kinder,Theater
ATTACH;FMTTYPE=image/jpeg:https://www.herzog-magazin.de/wp-content/uploads/2023/10/das-da_die-konferenz-der-tiere.jpg
ORGANIZER;CN="Stadt%20J%C3%BClich":MAILTO:info@juelich.de
END:VEVENT
END:VCALENDAR