    BEGIN:VCALENDAR
VERSION:2.0
PRODID:-//HERZOG Kultur- &amp; Stadtmagazin - ECPv4.9.2//NONSGML v1.0//EN
CALSCALE:GREGORIAN
METHOD:PUBLISH
X-WR-CALNAME:HERZOG Kultur- &amp; Stadtmagazin
X-ORIGINAL-URL:https://www.herzog-magazin.de
X-WR-CALDESC:Veranstaltungen im HERZOG Kultur- &amp; Stadtmagazin
BEGIN:VEVENT
DTSTART;TZID=Europe/Berlin:20220411T200000
DTEND;TZID=Europe/Berlin:20220411T220000
DTSTAMP:20260422T003205
CREATED:20220322T211538Z
LAST-MODIFIED:20220322T211656Z
UID:76439-1649707200-1649714400@www.herzog-magazin.de
SUMMARY:King Richard
DESCRIPTION:Drama\, Biografie | USA  2021 | FSK: ab 12 | 138 Min. | 7.00 Euro / 6.50 Euro erm. (Der Film hat Überlänge!) | Regie: Reinaldo Marcus Green | Darsteller: Will Smith\, Jon Bernthal\, Tony Goldwyn \nKING RICHARD basiert auf der wahren Geschichte von Richard Williams\, dem Vater der legendären Tennisspielerinnen Venus und Serena Williams. \nMit seinem unerschütterlichen Ehrgeiz\, aber vor allem mit seiner grenzenlosen Liebe ebnet Richard seinen Töchtern den Weg an die Weltspitze im Tennis. Täglich muss er enorme Hindernisse überwinden\, denn Compton\, Kalifornien ist normalerweise nicht der Ort\, der Tennis-Champions hervorbringt. So wehrt sich Richard tapfer gegen die Gangs\, die den örtlichen Tennisplatz als ihr Revier beanspruchen\, trainiert mit seinen Mädchen unermüdlich die Feinheiten eines Spiels\, das er selbst nie gespielt hat\, und kämpft permanent gegen die uralten Grenzlinien von Rasse und Klasse für eine faire Chance. Denn er glaubt fest daran: Seine Töchter sind zu Großem bestimmt. \n
URL:https://www.herzog-magazin.de/event/king-richard/2022-04-11/
LOCATION:Kulturbahnhof (KuBa) Jülich\, Bahnhofsstraße 13\, Jülich\, NRW\, 52428\, Deutschland
GEO:50.91828;6.36768
X-APPLE-STRUCTURED-LOCATION;VALUE=URI;X-ADDRESS=Kulturbahnhof (KuBa) Jülich Bahnhofsstraße 13 Jülich NRW 52428 Deutschland;X-APPLE-RADIUS=500;X-TITLE=Bahnhofsstraße 13:geo:6.36768,50.91828
CATEGORIES:Kino
ATTACH;FMTTYPE=image/jpeg:https://www.herzog-magazin.de/wp-content/uploads/2022/03/maxresdefault-7.jpg
ORGANIZER;CN="KuBa%20J%C3%BClich":MAILTO:info@kuba-juelich.de
END:VEVENT
END:VCALENDAR