    BEGIN:VCALENDAR
VERSION:2.0
PRODID:-//HERZOG Kultur- &amp; Stadtmagazin - ECPv4.9.2//NONSGML v1.0//EN
CALSCALE:GREGORIAN
METHOD:PUBLISH
X-WR-CALNAME:HERZOG Kultur- &amp; Stadtmagazin
X-ORIGINAL-URL:https://www.herzog-magazin.de
X-WR-CALDESC:Veranstaltungen im HERZOG Kultur- &amp; Stadtmagazin
BEGIN:VEVENT
DTSTART;TZID=Europe/Berlin:20260517T180000
DTEND;TZID=Europe/Berlin:20260517T180000
DTSTAMP:20260422T122956
CREATED:20260420T112648Z
LAST-MODIFIED:20260420T112815Z
UID:167468-1779040800-1779040800@www.herzog-magazin.de
SUMMARY:Kirchenfensterklänge
DESCRIPTION:Der Familienkreis St. Franz Sales Jülich lädt zu einer Veranstaltung ein unter dem Thema „Kirchenfensterklänge – Meditation im Farbenspiel“. Unter Leitung von Alfred Hermes soll das Licht Gottes in der Geometrie des Alltags gefunden werden. Dabei geht es vor allem um die Lichtarchitektur und den Zeitgeist in der Nachkriegszeit. \nAm Sonntag\, 17. Mai\, ist ab 18 Uhr in der Kirche St. Franz Sales im Jülicher Nordviertel folgender Ablauf vorgesehen: \n18 Uhr: Andacht und Meditation zu Fotos von Kirchenfenstern\n19 Uhr: Technik\, Farbsymbolik und Standortbezug der Kirchenfensterkunst in der Nachkriegszeit\, anschl. ein Mosaik aus Licht – Projektion von Kirchenfenstern aus St. Mariä Himmelfahrt Jülich\, St. Konrad Neuss\, St. Paul Abidjan/Elfenbeinküste\, St. Martin Weinfelder Maar und St. Barbara Schophoven \nDie musikalische Begleitung des Abends erfolgt durch Josef Laaf und Alfred Hermes. Der Eintritt ist frei. Eine Anmeldung ist nicht erforderlich. \n
URL:https://www.herzog-magazin.de/event/kirchenfensterklaenge/
LOCATION:Franz von Sales Kirche\, Nordstraße\, Jülich\, NRW\, 52428\, Deutschland
GEO:50.9326938;6.3578139
X-APPLE-STRUCTURED-LOCATION;VALUE=URI;X-ADDRESS=Franz von Sales Kirche Nordstraße Jülich NRW 52428 Deutschland;X-APPLE-RADIUS=500;X-TITLE=Nordstraße:geo:6.3578139,50.9326938
CATEGORIES:Religion
ATTACH;FMTTYPE=image/jpeg:https://www.herzog-magazin.de/wp-content/uploads/2021/12/Sales-IMG_4696web_-Foto-Dorothee-Schenk.jpg
ORGANIZER;CN="Hl.%20Maria%20Magdalena%20Aldenhoven%2FJ%C3%BClich":MAILTO:pfarramt@heilig-geist-juelich.de
END:VEVENT
END:VCALENDAR