    BEGIN:VCALENDAR
VERSION:2.0
PRODID:-//HERZOG Kultur- &amp; Stadtmagazin - ECPv4.9.2//NONSGML v1.0//EN
CALSCALE:GREGORIAN
METHOD:PUBLISH
X-WR-CALNAME:HERZOG Kultur- &amp; Stadtmagazin
X-ORIGINAL-URL:https://www.herzog-magazin.de
X-WR-CALDESC:Veranstaltungen im HERZOG Kultur- &amp; Stadtmagazin
BEGIN:VEVENT
DTSTART;TZID=Europe/Berlin:20191129T190000
DTEND;TZID=Europe/Berlin:20191129T190000
DTSTAMP:20260421T154714
CREATED:20191013T113844Z
LAST-MODIFIED:20191013T113844Z
UID:30054-1575054000-1575054000@www.herzog-magazin.de
SUMMARY:Kirchenklang mit Frauenpower: "Jooles"
DESCRIPTION:Frauenpower: Weiblich wird das Kirchenklang Konzert am Freitag\, 29. November\, mit der Aachener Musikerin „Jooles“. Sie lädt in der Christuskirche Jülich\, Düsseldorfer Straße\, zu einem Blick hinter die Kulissen ein und präsentiert mit ihrem eingängigen Songwriting und unverwechselbarer Stimmgewalt traurig-schöne Balladen und brachiale Liebeserklärungen.  \nDie mitreißenden Rocksongs ihrer Bands „The Tideline“ und „Wild Heart of a Bear“ werden minimalistisch von Kontrabass\, Gesang und Percussion begleitet und führen die Zuhörer auf eine turbulente Reise durch Leidenschaft und Intimität zu ihrer ursprünglichsten Version zurück in den Heimathafen. Einlass wird ab 19:30 Uhr gewährt\, Beginn ist um 20:00 Uhr. Der Eintritt ist frei\, Spenden werden erbeten. \n
URL:https://www.herzog-magazin.de/event/kirchenklang-mit-frauenpower-jooles/
LOCATION:Christuskirche\, Düsseldorfer Straße\, Jülich\, NRW\, 52428\, Deutschland
GEO:50.9238002;6.3571608
X-APPLE-STRUCTURED-LOCATION;VALUE=URI;X-ADDRESS=Christuskirche Düsseldorfer Straße Jülich NRW 52428 Deutschland;X-APPLE-RADIUS=500;X-TITLE=Düsseldorfer Straße:geo:6.3571608,50.9238002
CATEGORIES:Musik,Musik & Konzerte
ATTACH;FMTTYPE=image/jpeg:https://www.herzog-magazin.de/wp-content/uploads/2019/10/Jooles-Fotograf-Mario-Irrmischer-Netz.jpg
ORGANIZER;CN="Virginia%20Lisken-Dorp":MAILTO:info@noiseless-juelich.de
END:VEVENT
END:VCALENDAR