    BEGIN:VCALENDAR
VERSION:2.0
PRODID:-//HERZOG Kultur- &amp; Stadtmagazin - ECPv4.9.2//NONSGML v1.0//EN
CALSCALE:GREGORIAN
METHOD:PUBLISH
X-WR-CALNAME:HERZOG Kultur- &amp; Stadtmagazin
X-ORIGINAL-URL:https://www.herzog-magazin.de
X-WR-CALDESC:Veranstaltungen im HERZOG Kultur- &amp; Stadtmagazin
BEGIN:VEVENT
DTSTART;TZID=Europe/Berlin:20230909T200000
DTEND;TZID=Europe/Berlin:20230909T200000
DTSTAMP:20260421T010414
CREATED:20230803T135507Z
LAST-MODIFIED:20230803T135507Z
UID:111745-1694289600-1694289600@www.herzog-magazin.de
SUMMARY:KirchenKlang: „My Brother the Sea“
DESCRIPTION:Das Duo „My Brother the Sea“ ist am Samstag\, 9. September\, zu Gast der KirchenKlang Reihe in der Jülicher Christuskirche\, Düsseldorfer Straße 35. Der Eintritt ist wie immer frei; es wird um Hutspenden gebeten. Einlass ist um 19.30 Uhr\, Beginn um 20 Uhr. \nDer Name des Duos verrät direkt\, woher die Musiker ihre Inspiration nehmen: „My Brother The Sea“ ist der Titel eines zu Lebzeiten unveröffentlicht gebliebenen Romans von Jack Kerouac („Unterwegs“). Und Stefan Wehlings und Miguel Passarge verbeugen sich mit ihren Stücken auch vor anderen Dichtern der Beat-Generation\, vor allem Ginsberg und William Burroughs\, außerdem vor Haruki Murakami.  \nDas Duo entwickelten sie während der Pandemie. Ihre Stücke handeln denn auch von dem\, was man damals am meisten vermisste: die Weite und das Reisen. Das sind mit elektrischer und akustischer Gitarre\, Banjo und Piano arrangierte Indie-Folk-Erzählungen über Fernweh und Einsamkeit. Als „musikalischen Roadtrip“ bezeichnen die beiden ihre Musik selbst. \n
URL:https://www.herzog-magazin.de/event/kirchenklang-my-brother-the-sea/
LOCATION:Christuskirche\, Düsseldorfer Straße\, Jülich\, NRW\, 52428\, Deutschland
GEO:50.9238002;6.3571608
X-APPLE-STRUCTURED-LOCATION;VALUE=URI;X-ADDRESS=Christuskirche Düsseldorfer Straße Jülich NRW 52428 Deutschland;X-APPLE-RADIUS=500;X-TITLE=Düsseldorfer Straße:geo:6.3571608,50.9238002
CATEGORIES:Musik,Musik & Konzerte
ATTACH;FMTTYPE=image/jpeg:https://www.herzog-magazin.de/wp-content/uploads/2023/08/My_brother_the_sea_Foto_MarkusWehlings.jpg
ORGANIZER;CN="Virginia%20Lisken-Dorp":MAILTO:info@noiseless-juelich.de
END:VEVENT
END:VCALENDAR