    BEGIN:VCALENDAR
VERSION:2.0
PRODID:-//HERZOG Kultur- &amp; Stadtmagazin - ECPv4.9.2//NONSGML v1.0//EN
CALSCALE:GREGORIAN
METHOD:PUBLISH
X-WR-CALNAME:HERZOG Kultur- &amp; Stadtmagazin
X-ORIGINAL-URL:https://www.herzog-magazin.de
X-WR-CALDESC:Veranstaltungen im HERZOG Kultur- &amp; Stadtmagazin
BEGIN:VEVENT
DTSTART;TZID=Europe/Berlin:20190629T200000
DTEND;TZID=Europe/Berlin:20190629T000000
DTSTAMP:20260424T185243
CREATED:20190505T135416Z
LAST-MODIFIED:20190505T135416Z
UID:24515-1561838400-1561766400@www.herzog-magazin.de
SUMMARY:Kirchenklang: Quiet Moments
DESCRIPTION:Seit mehreren Jahren gibt es eine „leise“ Musikreihe des bekannten Trios „Thin Crow“\, die Quiet Moments Konzerte. \nMit ihrer mehr als zweistündigen\, abwechslungsreichen Reise durch die Geschichte des Rock von 1965 bis heute haben sich Sänger und Percussionist Michael Dorp\, der bereits mit Chris Thomson von der Manfred Manns Earth Band und Nik Kershaw auf der Bühne stand\, Michael Rick als Gitarrist und Roger Weitz am Bass\, Mandoline und Keyboards in den vergangenen drei Jahren zu einer anspruchsvollen Rock-Coverband im Rheinland entwickelt. Völlig unterschiedliche Stilrichtungen und Epochen der Rockmusik bringen die drei Musiker so authentisch und mitreißend rüber. Jetzt werden die Musiker dieses spezielle Programm zum ersten Mal in einer Kirche aufführen: Rockmusik im leisen Gewand. \nDer Eintritt ist frei\, um Spenden wird gebeten. \n
URL:https://www.herzog-magazin.de/event/kirchenklang-quiet-moments/
LOCATION:Christuskirche\, Düsseldorfer Straße\, Jülich\, NRW\, 52428\, Deutschland
GEO:50.9238002;6.3571608
X-APPLE-STRUCTURED-LOCATION;VALUE=URI;X-ADDRESS=Christuskirche Düsseldorfer Straße Jülich NRW 52428 Deutschland;X-APPLE-RADIUS=500;X-TITLE=Düsseldorfer Straße:geo:6.3571608,50.9238002
CATEGORIES:Musik,Musik & Konzerte
ATTACH;FMTTYPE=image/jpeg:https://www.herzog-magazin.de/wp-content/uploads/2019/05/Thin-Crow-Kopie.jpg
ORGANIZER;CN="Virginia%20Lisken-Dorp":MAILTO:info@noiseless-juelich.de
END:VEVENT
END:VCALENDAR