    BEGIN:VCALENDAR
VERSION:2.0
PRODID:-//HERZOG Kultur- &amp; Stadtmagazin - ECPv4.9.2//NONSGML v1.0//EN
CALSCALE:GREGORIAN
METHOD:PUBLISH
X-WR-CALNAME:HERZOG Kultur- &amp; Stadtmagazin
X-ORIGINAL-URL:https://www.herzog-magazin.de
X-WR-CALDESC:Veranstaltungen im HERZOG Kultur- &amp; Stadtmagazin
BEGIN:VEVENT
DTSTART;TZID=Europe/Berlin:20191021T150000
DTEND;TZID=Europe/Berlin:20191021T170000
DTSTAMP:20260425T101632
CREATED:20190919T084506Z
LAST-MODIFIED:20190919T084506Z
UID:29284-1571670000-1571677200@www.herzog-magazin.de
SUMMARY:Kita Rappelkiste: Familien-Nachmittage mit Senioren
DESCRIPTION:Familien im Netzwerk – Nachmittage der Begegnung: Offenes Angebot für Familien und Senioren in der Kita Rappelkiste. Gemeinsam kreativ sein und sich dabei kennenlernen\, das ist das Ziel der Begegnungsnachmittage im Familienzentrum „Hand in Hand“ in Lich-Steinstraß\, Matthiasplatz 2a. Jeweils am 3. Montag im Monat von 15 bis 17 Uhr öffnen sich die Türen der Kita Rappelkiste für Familien und Senioren sowie für Menschen\, die Zeit und Lust auf die Begegnung mit Kindern haben. Vorbereitet und begleitet werden die Treffen von den Elternbegleiterinnen der Einrichtung.  \nAn den offenen Veranstaltungen kann man ohne Voranmeldung teilnehmen. Die Begegnungsnachmittage sind Angebote im Rahmen des Projekts Familien im Netzwerk. Auslöser für die Initiative ist die Tatsache\, dass die KiTa-Mitarbeiterinnen immer häufiger von Familien erfahren\, dass sie ohne familiäres Unterstützungsnetz den Alltag stemmen müssen und Kontakte vor Ort suchen.  \nAuf der anderen Seite wenden sich Interessierte an die Stadtverwaltung mit der Frage\, wo sie sich engagieren können. Das Projekt arbeitet daher langfristig darauf hin\, Menschen zusammen zu bringen\, die den Wunsch nach sozialen Kontakten haben. Unterstützt wird das Projekt vom SkF Düren – Familienpaten und der Stadt Jülich – Amt für Familie\, Generationen und Integration.  \nWer mehr über die offenen Begegnungstreffen oder das Projekt erfahren möchte\, kann sich an das Familienzentrum „Hand in Hand“ wenden. Brita Eberhardt\, Tel. 02461 / 58374\, und Sandra Hertel\, Tel. 02461 / 8953\, informieren gerne. \n
URL:https://www.herzog-magazin.de/event/kita-rappelkiste-familien-nachmittage-mit-senioren-2/2019-10-21/
LOCATION:KiTa Rappelkiste\, Matthiasplatz 2a\, Lich-Steinstraß\, NRW\, 52428\, Deutschland
GEO:50.9302356;6.3783497
X-APPLE-STRUCTURED-LOCATION;VALUE=URI;X-ADDRESS=KiTa Rappelkiste Matthiasplatz 2a Lich-Steinstraß NRW 52428 Deutschland;X-APPLE-RADIUS=500;X-TITLE=Matthiasplatz 2a:geo:6.3783497,50.9302356
CATEGORIES:für Familien,für Kinder,Senioren
ATTACH;FMTTYPE=image/jpeg:https://www.herzog-magazin.de/wp-content/uploads/2018/12/hands-1926704_1920-Kopie.jpg
END:VEVENT
END:VCALENDAR