    BEGIN:VCALENDAR
VERSION:2.0
PRODID:-//HERZOG Kultur- &amp; Stadtmagazin - ECPv4.9.2//NONSGML v1.0//EN
CALSCALE:GREGORIAN
METHOD:PUBLISH
X-WR-CALNAME:HERZOG Kultur- &amp; Stadtmagazin
X-ORIGINAL-URL:https://www.herzog-magazin.de
X-WR-CALDESC:Veranstaltungen im HERZOG Kultur- &amp; Stadtmagazin
BEGIN:VEVENT
DTSTART;TZID=Europe/Berlin:20230520T190000
DTEND;TZID=Europe/Berlin:20230520T190000
DTSTAMP:20260422T100905
CREATED:20230412T101203Z
LAST-MODIFIED:20230412T101203Z
UID:104347-1684609200-1684609200@www.herzog-magazin.de
SUMMARY:Klangvoller Abend mit Orient & Okzident
DESCRIPTION:Unter dem Titel „Ein klangvoller Abend mit Orient und Okzident“ präsentieren die Pianistin und Sängerin Natalia Schmidt und der Geiger Alan Arif am Samstag\, 20. Mai\, 19 Uhr\, auf Einladung von Kultur ohne Grenzen in der Schlosskapelle Jülich ein vielfältiges und buntes Programm. Hier begegnen sich der Zauber des Orients und die abendländische Romantik in immer neuen Klangerlebnissen und nehmen die Zuhörer mit auf eine Reise in die Welt der Märchen und Träume. \nNatalia Schmidt wurde in Sofia (Bulgarien) geboren\, wo sie die Musikhochschule als Konzertpianistin mit Auszeichnung abschloss. Sie hatte Engagements bei einer Reihe von Konzerten in Russland\, Frankreich\, Spanien und in den USA. Seit 1999 lebt sie in Deutschland und unterrichtet an unterschiedlichen Musikschulen Klavier und Gesang.  \nMehrere Chöre erfreuen sich ihrer bewährten musikalischen Leitung. Natalia Schmidt absolvierte Meisterkurse als Konzertpianistin und als Sängerin.  Die Künstlerin gibt regelmäßig in Deutschland und im Ausland Konzerte als Pianistin und Sopranistin. \nAlan Arif wurde in Silêmanî (Nord-Irak) geboren und studierte fünf Jahre lang klassische Musik an der Musikakademie in Bagdad. Er wohnt in Düren und tritt in unterschiedlichen Formationen sowohl mit traditioneller orientalischer Musik als auch mit klassischer Musik auf\, teilweise in eigenen Arrangements. \nKonzertbeginn ist um 19 Uhr. Einlass wird ab 18.30 Uhr gewährt. Der Eintritt ist frei. Die Musiker freuen sich jedoch über eine Spende. \n
URL:https://www.herzog-magazin.de/event/klangvoller-abend-mit-orient-okzident/
LOCATION:Schlosskapelle der Zitadelle\, Schloßstraße\, Jülich\, NRW\, 52428\, Deutschland
CATEGORIES:Musik,Musik & Konzerte
ATTACH;FMTTYPE=image/jpeg:https://www.herzog-magazin.de/wp-content/uploads/2023/04/Natalia-Schmidt-Foto-Georg-Neulen-Netz.jpg
END:VEVENT
END:VCALENDAR