    BEGIN:VCALENDAR
VERSION:2.0
PRODID:-//HERZOG Kultur- &amp; Stadtmagazin - ECPv4.9.2//NONSGML v1.0//EN
CALSCALE:GREGORIAN
METHOD:PUBLISH
X-WR-CALNAME:HERZOG Kultur- &amp; Stadtmagazin
X-ORIGINAL-URL:https://www.herzog-magazin.de
X-WR-CALDESC:Veranstaltungen im HERZOG Kultur- &amp; Stadtmagazin
BEGIN:VEVENT
DTSTART;TZID=Europe/Berlin:20191106T180000
DTEND;TZID=Europe/Berlin:20191106T200000
DTSTAMP:20260421T233853
CREATED:20191030T104304Z
LAST-MODIFIED:20191030T104304Z
UID:30566-1573063200-1573070400@www.herzog-magazin.de
SUMMARY:Kleidertausch in der Frauenberatungsstelle
DESCRIPTION:Kleidertausch geht in die zweite Runde. An einem sonnigen Samstag im September in Jülich hat unter dem Motto „Altes Lieblingsteil mitbringen – neues Lieblingsteil finden“ die Beratungsstelle für Frauen und Mädchen im Kreis Düren ihre Türen zum Kleidertausch geöffnet. „Die Idee und Umsetzung kam bei den teilnehmenden Frauen gut an.“ Sagt Annette Umscheid\, die zusammen mit Marie Brenner von der Beratungsstelle den Kleidertausch organisiert hat. \n„Es hat uns und den Frauen so gut gefallen\, dass wir gerne regelmäßig einen Kleidertausch anbieten würden. Diesmal haben wir überlegt\, dass der Kleidertausch unter der Woche stattfinden kann. So entstand die Idee des After-Work Kleidertauschs.“\nGesagt – getan\, am Mittwoch\, 6. November\, von 18:00 bis 20:00 Uhr können Frauen wieder in die Beratungsstellen kommen und neue Lieblingskleidungsstücke finden. Wie immer können gut erhaltene Kleidungsstücke aller Größen mitgebracht werden\, vielleicht finden sie eine neue Trägerin. \nDie Teilnahme ist kostenfrei und für alle Frauen aus dem Kreis Düren geöffnet\, eine Anmeldung ist nicht erforderlich\, Rückfragen gerne an info@frauenberatungsstelle-juelich.de\, www.frauenberatungstelle-juelich.de\nBeratungsstelle für Frauen und Mädchen im Kreis Düren\, Römerstraße 10 in Jülich. \n
URL:https://www.herzog-magazin.de/event/kleidertausch-in-der-frauenberatungsstelle-2/
LOCATION:Beratungsstelle für Frauen und Mädchen im Kreis Düren\, Römerstraße 10\, Jülich\, NRW\, 52428\, Deutschland
GEO:50.9237932;6.3656832
X-APPLE-STRUCTURED-LOCATION;VALUE=URI;X-ADDRESS=Beratungsstelle für Frauen und Mädchen im Kreis Düren Römerstraße 10 Jülich NRW 52428 Deutschland;X-APPLE-RADIUS=500;X-TITLE=Römerstraße 10:geo:6.3656832,50.9237932
CATEGORIES:für Frauen
ATTACH;FMTTYPE=image/jpeg:https://www.herzog-magazin.de/wp-content/uploads/2019/10/Beratungsstelle-für-Frauen-und-Mädchen-Logo-Netz.jpg
ORGANIZER;CN="Frauenberatungsstelle%20J%C3%BClich":MAILTO:nfo@frauenberatungsstelle-juelich.de
END:VEVENT
END:VCALENDAR