    BEGIN:VCALENDAR
VERSION:2.0
PRODID:-//HERZOG Kultur- &amp; Stadtmagazin - ECPv4.9.2//NONSGML v1.0//EN
CALSCALE:GREGORIAN
METHOD:PUBLISH
X-WR-CALNAME:HERZOG Kultur- &amp; Stadtmagazin
X-ORIGINAL-URL:https://www.herzog-magazin.de
X-WR-CALDESC:Veranstaltungen im HERZOG Kultur- &amp; Stadtmagazin
BEGIN:VEVENT
DTSTART;TZID=Europe/Berlin:20221208T100000
DTEND;TZID=Europe/Berlin:20221208T100000
DTSTAMP:20260420T123305
CREATED:20221124T125836Z
LAST-MODIFIED:20221124T130720Z
UID:94191-1670493600-1670493600@www.herzog-magazin.de
SUMMARY:Klexs Theater mit Sterntaler im KuBa
DESCRIPTION:Poetisches wagen: „Sterntaler“ erzählt die Geschichte von dem Mädchen\, das kaum etwas besaß\, nur die Kleider\, die es trug. Und doch hatte es keine Angst davor\, sein letztes Hemd herzugeben… Ganz am Ende der Geschichte wurde das Mädchen reich belohnt\, das Mädchen mit dem Namen Sterntaler. Eine berührende und poetische Geschichte auf wundersame Weise dargestellt. \nDie Schauspieler\, Tänzer und Musiker des Klexs Theaters sind auf der Suche nach einem Theater\, in dem Tiefe und Leichtigkeit immer wieder durch poetische Momente erlebbar wird. Die Inszenierungen sollen die Sinne der Zuschauer direkt ansprechen und deren Gefühle wecken. „Die Mischung aus Sprache\, Tanz\, Gesang und verschiedenen Musikinstrumenten ergibt ein vielschichtiges Mosaik aus kleinen und großen Geschichten. Das Klexs Theater versucht\, dem nachzuspüren und immer wieder aufs Neue die Schwerkraft zu besiegen\, das Poetische zu wagen“\, sagt das Ensemble über sich selbst.  \nDas Klexs Theater ist mit Sterntaler am Donnerstag\, 8. Dezember\, um 10 Uhr zu Gast im Kulturbahnhof Jülich\, Bahnhofstraße 13. Die Veranstaltung des KulturBüros Stadt Jülich findet um 10 Uhr statt. \nDer Eintritt beträgt 6 Euro\, für Erwachsene 8 Euro. Karten und Gruppenanmeldung sin dunter 02461 / 63-243 oder -416 möglich. \n
URL:https://www.herzog-magazin.de/event/klexs-theater-mit-sterntaler-im-kuba/
LOCATION:Kulturbahnhof (KuBa) Jülich\, Bahnhofsstraße 13\, Jülich\, NRW\, 52428\, Deutschland
GEO:50.91828;6.36768
X-APPLE-STRUCTURED-LOCATION;VALUE=URI;X-ADDRESS=Kulturbahnhof (KuBa) Jülich Bahnhofsstraße 13 Jülich NRW 52428 Deutschland;X-APPLE-RADIUS=500;X-TITLE=Bahnhofsstraße 13:geo:6.36768,50.91828
CATEGORIES:für Kinder,Theater
ATTACH;FMTTYPE=image/jpeg:https://www.herzog-magazin.de/wp-content/uploads/2022/11/Sterntaler-Foto-Klexs-Theater.jpg
ORGANIZER;CN="Stadt%20J%C3%BClich":MAILTO:info@juelich.de
END:VEVENT
END:VCALENDAR