    BEGIN:VCALENDAR
VERSION:2.0
PRODID:-//HERZOG Kultur- &amp; Stadtmagazin - ECPv4.9.2//NONSGML v1.0//EN
CALSCALE:GREGORIAN
METHOD:PUBLISH
X-WR-CALNAME:HERZOG Kultur- &amp; Stadtmagazin
X-ORIGINAL-URL:https://www.herzog-magazin.de
X-WR-CALDESC:Veranstaltungen im HERZOG Kultur- &amp; Stadtmagazin
BEGIN:VEVENT
DTSTART;TZID=Europe/Berlin:20231124T080000
DTEND;TZID=Europe/Berlin:20231124T170000
DTSTAMP:20260419T190118
CREATED:20231021T145241Z
LAST-MODIFIED:20231021T145401Z
UID:116707-1700812800-1700845200@www.herzog-magazin.de
SUMMARY:Kölsche Tön mit Stadtrand im KuBa
DESCRIPTION:StadtRand liegt im Herzen von Jülich: „Partypeople aufgepasst – hier ist StadtRand für Euch!“\,  heißt es im KuBa am Freitag\, 24. November. Nach der Premiere im vorletzten Jahr kommen die sechs Jungs wieder nach Jülich.  \nDie aufstrebendste Band der Kölner Musikszene begeistert nun seit einigen Jahren das kölsche Publikum. Mit „Orjenal“ präsentierte die Band 2018 einen sehr starken Titel\, der heute nicht mehr aus den Ohren und Köpfen der Leute wegzudenken ist. Eigene Musik mit emotionalen Melodien und Texten ist für die sechs Musiker von StadtRand oberstes Gebot. Mit Klängen\, die sie lieben\, einer Sprache\, die sie gerne sprechen\, und mit einem Gefühl\, das unter die Haut geht\, überzeugen die Songs der sechs Musiker. \nDie Jungs machen Musik\, um Lebensfreude zu verbreiten und die Hemmungen und Ängste des tristen Alltages hinter sich zu lassen. So haben es StadtRand geschafft\, die Gefühle der Menschen\, die Seele des Kölner Karnevals und die Freude am Leben in großartige Songs zu vereinen. \nDer aktuelle Hit „Ahle Kess“ beschreibt das sich darin befindende Freiheitsgefühl. Frontmann Roman Lob: „Das Schöne an den Karnevalskostümen in der „Ahlen Kess“ ist doch\, dass jeder alles sein kann – was und wie er möchte. Diese Freiheit\, in neue Rollen zu schlüpfen und den Alltag hinter sich zu lassen\, möchten wir in diesem Song darstellen.“ Wichtig ist der Band eins: Karneval bedeutet Kölsch\, aber Kölsch bedeutet nicht nur Karneval! \nKonzertbeginn ist um 20 Uhr. Einlass wird ab 19 Uhr gewährt. Tickets sind zu 25\,50 Euro plus Gebühren über www.tickets.five-entertainment.de\, www.stadtrandmusik.de und den bekannten VVK-Stellen erhältlich. \n
URL:https://www.herzog-magazin.de/event/koelsche-musik-mit-stadtrand-im-kuba/
LOCATION:Kulturbahnhof (KuBa) Jülich\, Bahnhofsstraße 13\, Jülich\, NRW\, 52428\, Deutschland
GEO:50.91828;6.36768
X-APPLE-STRUCTURED-LOCATION;VALUE=URI;X-ADDRESS=Kulturbahnhof (KuBa) Jülich Bahnhofsstraße 13 Jülich NRW 52428 Deutschland;X-APPLE-RADIUS=500;X-TITLE=Bahnhofsstraße 13:geo:6.36768,50.91828
CATEGORIES:Musik,Musik & Konzerte
ATTACH;FMTTYPE=image/jpeg:https://www.herzog-magazin.de/wp-content/uploads/2023/09/StadtRand2023quadrat_byFabianHeigelweb.jpg
ORGANIZER;CN="Stadt%20J%C3%BClich":MAILTO:info@juelich.de
END:VEVENT
END:VCALENDAR