    BEGIN:VCALENDAR
VERSION:2.0
PRODID:-//HERZOG Kultur- &amp; Stadtmagazin - ECPv4.9.2//NONSGML v1.0//EN
CALSCALE:GREGORIAN
METHOD:PUBLISH
X-WR-CALNAME:HERZOG Kultur- &amp; Stadtmagazin
X-ORIGINAL-URL:https://www.herzog-magazin.de
X-WR-CALDESC:Veranstaltungen im HERZOG Kultur- &amp; Stadtmagazin
BEGIN:VEVENT
DTSTART;TZID=Europe/Berlin:20250325T200000
DTEND;TZID=Europe/Berlin:20250325T220000
DTSTAMP:20260419T191428
CREATED:20250218T100827Z
LAST-MODIFIED:20250218T101132Z
UID:141951-1742932800-1742940000@www.herzog-magazin.de
SUMMARY:Könige des Sommers
DESCRIPTION:Drama\, Komödie | Frankreich 2024 | FSK: ab 6 | 92 Min. | 6.50 Euro / 6.00 Euro erm. | Regie: Louise Courvoisier | Darsteller: Clément Faveau\, Luna Garret\, Mathis Bernard \nTotone ist jung\, temperamentvoll\, unbekümmert. Seine Zeit verbringt er am liebsten mit seinen Kumpels\, geht tanzen und flirten. Bis die Realität ihn einholt. Plötzlich muss er Verantwortung für seine kleine Schwester und den runtergekommenen\, elterlichen Hof im französischen Jura übernehmen. Um für den Lebensunterhalt zu sorgen\, schmiedet er einen Plan: Er will den besten Comté-Käse herstellen. Immerhin winken dem Jahrgangssieger außer einer Goldmedaille 30.000 Euro Preisgeld. Unterstützt wird Totone von seinen Freunden\, seiner Schwester und von seiner großen Liebe Marie-Lise. Auch wenn die nicht immer ganz exakt in die fragwürdigen Methoden von Totone eingeweiht ist. \nKÖNIGE DES SOMMERS ist eine hinreißende Komödie der französischen Regisseurin Louise Courvoisier. Ein Film über die Liebe\, das Landleben in all seiner Schönheit\, aber auch all seiner Rauheit. Ohne kitschige Überhöhung und mit großer Empathie für seine wunderbaren Charaktere\, zeichnet KÖNIGE DES SOMMERS ein authentisches Bild vom Leben auf dem Land – und den Tücken\, einen guten Käse herzustellen. \nFür ihren Debütfilm wurde Louise Courvoisier 2024 auf den Internationalen Filmfestspielen in Cannes mit dem den „Prix de la Jeunesse“ in der Reihe Un Certain Regard ausgezeichnet. \n
URL:https://www.herzog-magazin.de/event/koenige-des-sommers/2025-03-25/
LOCATION:Kulturbahnhof (KuBa) Jülich\, Bahnhofsstraße 13\, Jülich\, NRW\, 52428\, Deutschland
GEO:50.91828;6.36768
X-APPLE-STRUCTURED-LOCATION;VALUE=URI;X-ADDRESS=Kulturbahnhof (KuBa) Jülich Bahnhofsstraße 13 Jülich NRW 52428 Deutschland;X-APPLE-RADIUS=500;X-TITLE=Bahnhofsstraße 13:geo:6.36768,50.91828
CATEGORIES:Kino
ATTACH;FMTTYPE=image/jpeg:https://www.herzog-magazin.de/wp-content/uploads/2025/02/maxresdefault-5.jpg
ORGANIZER;CN="KuBa%20J%C3%BClich":MAILTO:info@kuba-juelich.de
END:VEVENT
END:VCALENDAR