    BEGIN:VCALENDAR
VERSION:2.0
PRODID:-//HERZOG Kultur- &amp; Stadtmagazin - ECPv4.9.2//NONSGML v1.0//EN
CALSCALE:GREGORIAN
METHOD:PUBLISH
X-WR-CALNAME:HERZOG Kultur- &amp; Stadtmagazin
X-ORIGINAL-URL:https://www.herzog-magazin.de
X-WR-CALDESC:Veranstaltungen im HERZOG Kultur- &amp; Stadtmagazin
BEGIN:VEVENT
DTSTART;TZID=Europe/Berlin:20190620T120000
DTEND;TZID=Europe/Berlin:20190620T000000
DTSTAMP:20260420T230739
CREATED:20190616T205322Z
LAST-MODIFIED:20190616T205322Z
UID:25900-1561032000-1560988800@www.herzog-magazin.de
SUMMARY:Königsschießen der Schützenbruderschaft Welldorf 1859
DESCRIPTION:Traditionsgemäß werden an Fronleichnam die neuen Majestäten der St.Hubertus Schützenbruderschaft Welldorf 1859 e.V. ausgeschossen. Wer das Königsschießen miterleben möchte\, hat rund ums Theo-Klems Schützenheim am Sportplatz auf dem Sandweg die Gelegenheit.  \nDieses Jahr steht eine riesige Hüpfburg in Form eines Traktors samt Hänger\, vor allem für die kleinsten parat. Natürlich gibt es dieses Jahr auch wieder traditionsgemäß eine Tombola. \n
URL:https://www.herzog-magazin.de/event/koenigsschiessen-der-schuetzenbruderschaft-welldorf-1859/
LOCATION:Theo-Klems Schützenheim\, Sandweg\, Welldorf\, NRW\, 52428\, Deutschland
CATEGORIES:Brauchtum
ATTACH;FMTTYPE=image/jpeg:https://www.herzog-magazin.de/wp-content/uploads/2019/06/Fronleichnam.jpg
ORGANIZER;CN="St.%20Hubertus%20Sch%C3%BCtzenbruderschaft%20Welldorf%201859%20e.V.":MAILTO:info@welldorf.de
END:VEVENT
END:VCALENDAR