    BEGIN:VCALENDAR
VERSION:2.0
PRODID:-//HERZOG Kultur- &amp; Stadtmagazin - ECPv4.9.2//NONSGML v1.0//EN
CALSCALE:GREGORIAN
METHOD:PUBLISH
X-WR-CALNAME:HERZOG Kultur- &amp; Stadtmagazin
X-ORIGINAL-URL:https://www.herzog-magazin.de
X-WR-CALDESC:Veranstaltungen im HERZOG Kultur- &amp; Stadtmagazin
BEGIN:VEVENT
DTSTART;TZID=Europe/Berlin:20231026T200000
DTEND;TZID=Europe/Berlin:20231026T200000
DTSTAMP:20260420T170509
CREATED:20230914T113251Z
LAST-MODIFIED:20230914T113251Z
UID:114254-1698350400-1698350400@www.herzog-magazin.de
SUMMARY:Konrad Beikirchers Rheinisches Universum
DESCRIPTION:„Testament“ – janz ohne Notar! Mit seinem Programm „Das rheinische Universum“ ist Konrad Beikircher am Donnerstag\, 26. Oktober\, zu Gast im Kulturbahnhof Jülich\, Bahnhofstraße 13. Beginn ist um 20 Uhr. Einlass wird ab 19.30 Uhr gewährt. \nWer sind eigentlich die Aliens: die Imis oder die Einheimischen? Im rätselhaftesten aller Universen ist vieles anders: die Sprache\, der Karneval\, die Kirche\, die Politik\, die Wirtschaften\, das Essen\, die Krankenhäuser und so weiter. Konrad Beikircher erzählt und weiß\, wovon er spricht.  \nSein neues Programm ist eine kleine Bilanz aus 57 Jahren Leben im rheinischen Universum. Die Schrecken des ersten Kontakts\, die Entdeckung der Ähnlichkeiten mit Italien\, das Glück des Voyeurs beim Eintauchen in die fremde Welt\, die Schale-für-Schale-Durchdringung der rheinischen Zwiebel\, die beglückende Erfahrung rheinisch-heiteren Seins.  \nDer Weg in dieses „mein rheinisches Zuhause-Sein-Gefühl“ ist gepflastert mit Geschichten\, Wahrheiten\, Halbwahrheiten und wunderbaren Menschen\, wie sie schon die Bläck Fööß besungen haben: „Mutzebuckel\, Avjebrühte\, Drecksack un Filou…“ Das Programm ist damit sozusagen sein „kleines rheinisches Testament“ – und dat janz ohne Notar! \nTickets sind im Vorverkauf zu 19 Euro zuzüglich Gebühr bei Thalia in Jülich\, Kölnstraße 9\, oder unter ztix.de erhältlich. An der Abendkasse kostet der Eintritt 23 Euro. \n
URL:https://www.herzog-magazin.de/event/konrad-beikirchers-rheinisches-universum/
LOCATION:Allgemeiner Ort\, NRW\, Deutschland
CATEGORIES:Kabarett & Comedy,kulturelle Bildung
ATTACH;FMTTYPE=image/jpeg:https://www.herzog-magazin.de/wp-content/uploads/2023/09/Beikircher_Foto_Picos_Grafik_GmbH.jpg
ORGANIZER;CN="Stadt%20J%C3%BClich":MAILTO:info@juelich.de
END:VEVENT
END:VCALENDAR