    BEGIN:VCALENDAR
VERSION:2.0
PRODID:-//HERZOG Kultur- &amp; Stadtmagazin - ECPv4.9.2//NONSGML v1.0//EN
CALSCALE:GREGORIAN
METHOD:PUBLISH
X-WR-CALNAME:HERZOG Kultur- &amp; Stadtmagazin
X-ORIGINAL-URL:https://www.herzog-magazin.de
X-WR-CALDESC:Veranstaltungen im HERZOG Kultur- &amp; Stadtmagazin
BEGIN:VEVENT
DTSTART;TZID=Europe/Berlin:20191006T150000
DTEND;TZID=Europe/Berlin:20191006T163000
DTSTAMP:20260420T172228
CREATED:20190925T094603Z
LAST-MODIFIED:20190925T094728Z
UID:29556-1570374000-1570379400@www.herzog-magazin.de
SUMMARY:Kostenfreie Gästeführung für Neubürger
DESCRIPTION:Die Stadt Jülich lädt alle Neubürger aus dem Jahren 2018 und 2019 zu einer kostenlosen Stadt- und Zitadellenführung am Sonntag\, 6. Oktober\, um 15 Uhr\, ein. Es lohnt sich\, Jülich mit seiner 2000-jährigen Geschichte und seinen Sehenswürdigkeiten im Rahmen eines geführten Rundgangs kennen zu lernen. Neubürger sollte sich etwa eineinhalb Stunden Zeit nehmen\, um ihre neue Heimatstadt näher kennenzulernen. \nDie kostenlose Teilnahme an der Führung ist nur mit dem Gutschein für die Neubürgerführung und für das Museum aus der Neubürgerbroschüre möglich. Um Anmeldung bis eine Woche vor dem Datum der Führung unter Tel. 02461 / 63-415 oder stadtmarketing@juelich.de wird gebeten. \n
URL:https://www.herzog-magazin.de/event/kostenfreie-gaestefuehrung-fuer-neubuerger/
CATEGORIES:Geschichte,Informationsveranstaltung,Vortrag
ATTACH;FMTTYPE=image/jpeg:https://www.herzog-magazin.de/wp-content/uploads/2019/09/Kostenfreie-Gästeführung-für-Neubürger-Netz.jpg
END:VEVENT
END:VCALENDAR