    BEGIN:VCALENDAR
VERSION:2.0
PRODID:-//HERZOG Kultur- &amp; Stadtmagazin - ECPv4.9.2//NONSGML v1.0//EN
CALSCALE:GREGORIAN
METHOD:PUBLISH
X-WR-CALNAME:HERZOG Kultur- &amp; Stadtmagazin
X-ORIGINAL-URL:https://www.herzog-magazin.de
X-WR-CALDESC:Veranstaltungen im HERZOG Kultur- &amp; Stadtmagazin
BEGIN:VEVENT
DTSTART;TZID=Europe/Berlin:20220508T110000
DTEND;TZID=Europe/Berlin:20220508T133000
DTSTAMP:20260420T202110
CREATED:20220424T131549Z
LAST-MODIFIED:20220424T131549Z
UID:78663-1652007600-1652016600@www.herzog-magazin.de
SUMMARY:Kräuterwanderung in Linnich
DESCRIPTION:Von Maiwipfeln und heilsamen Kräutern: Alles neu macht der Mai: Die heimische Natur erlebt gerade einen echten Wachstumsschub. Ob Maiwipfel\, Löwenzahn\, Giersch oder Vogelmiere – vieles von dem\, was dieser Tage draußen spießt und grünt\, lässt sich als Haus- und Heilmittel verwenden. \nWelche Blätter und Blüten wie genutzt werden können\, erklärt Kräuterhexe Ulrike Walgenbach am Sonntag\, 8. Mai\, im Rahmen einer indeland-Erlebnisführung in Linnich. Zu der „Kräuterwanderung im Wonnemonat Mai“ erhalten alle Teilnehmerinnen und Teilnehmer ein Merkblatt mit Informationen und Rezeptideen zu den gesammelten Kräutern. \nStartpunkt zu der etwa zweieinhalb Stunden dauernden Tour ist um 11 Uhr an der Alten Polizeistation in Linnich\, Rurallee 20. Die Teilnahme kostet 10 Euro für Erwachsene und 5 Euro für Kinder ab sechs Jahren. Eine Anmeldung beim indeland Tourismus e. V. (Tel. 02421 / 22-1084126\, E­­-Mail info@indeland-erleben.de) ist erforderlich. \nWeitere Informationen: www.indeland-erleben.de/angebote \n
URL:https://www.herzog-magazin.de/event/kraeuterwanderung-in-linnich/
CATEGORIES:Informationsveranstaltung,Natur / Umwelt
ATTACH;FMTTYPE=image/jpeg:https://www.herzog-magazin.de/wp-content/uploads/2022/04/indeland-1-1.jpg
END:VEVENT
END:VCALENDAR