    BEGIN:VCALENDAR
VERSION:2.0
PRODID:-//HERZOG Kultur- &amp; Stadtmagazin - ECPv4.9.2//NONSGML v1.0//EN
CALSCALE:GREGORIAN
METHOD:PUBLISH
X-WR-CALNAME:HERZOG Kultur- &amp; Stadtmagazin
X-ORIGINAL-URL:https://www.herzog-magazin.de
X-WR-CALDESC:Veranstaltungen im HERZOG Kultur- &amp; Stadtmagazin
BEGIN:VEVENT
DTSTART;TZID=Europe/Berlin:20191104T180000
DTEND;TZID=Europe/Berlin:20191104T180000
DTSTAMP:20260424T010844
CREATED:20191101T123610Z
LAST-MODIFIED:20191101T123610Z
UID:30590-1572890400-1572890400@www.herzog-magazin.de
SUMMARY:Krankenhaus Linnich: Infoabend zu Krampfaderleiden
DESCRIPTION:Zum Infoabend „Möglichkeiten zur Behandlung des Krampfaderleidens“ lädt das St. Josef-Krankenhaus Linnich am Montag\, 4. November\, um 18:00 Uhr in den Rathaussaal der Stadtverwaltung Linnich (Rurdorfer Straße 64\, 52441 Linnich) ein. Alwin Bulla\, neuer Chefarzt der Abteilung für Allgemein-\, Viszeral- und Gefäßchirurgie (Facharzt für Chirurgie\, Viszeralchirurgie\, Unfallchirurgie und Orthopädie\, Notfallmedizin\, MBHA) informiert alle Interessierten und steht für Fragen zur Verfügung. \nDer Eintritt ist frei. Die Veranstaltung erfolgt in Kooperation mit der AOK Rheinland/Hamburg. \n
URL:https://www.herzog-magazin.de/event/krankenhaus-linnich-infoabend-zu-krampfaderleiden/
LOCATION:St. Josef-Krankenhaus Linnich\, Rurdorfer Str. 49\, Linnich\, 52441\, Deutschland
GEO:50.9767009;6.2686296
X-APPLE-STRUCTURED-LOCATION;VALUE=URI;X-ADDRESS=St. Josef-Krankenhaus Linnich Rurdorfer Str. 49 Linnich 52441 Deutschland;X-APPLE-RADIUS=500;X-TITLE=Rurdorfer Str. 49:geo:6.2686296,50.9767009
CATEGORIES:Informationsveranstaltung
ATTACH;FMTTYPE=image/jpeg:https://www.herzog-magazin.de/wp-content/uploads/2019/07/ctw-PM-Alwin-Bulla-neuer-Chefarzt-der-Chirurgie-StJL-Jul-2019.jpg
END:VEVENT
END:VCALENDAR