    BEGIN:VCALENDAR
VERSION:2.0
PRODID:-//HERZOG Kultur- &amp; Stadtmagazin - ECPv4.9.2//NONSGML v1.0//EN
CALSCALE:GREGORIAN
METHOD:PUBLISH
X-WR-CALNAME:HERZOG Kultur- &amp; Stadtmagazin
X-ORIGINAL-URL:https://www.herzog-magazin.de
X-WR-CALDESC:Veranstaltungen im HERZOG Kultur- &amp; Stadtmagazin
BEGIN:VEVENT
DTSTART;TZID=Europe/Berlin:20250704T163000
DTEND;TZID=Europe/Berlin:20250704T193000
DTSTAMP:20260421T135016
CREATED:20250624T110725Z
LAST-MODIFIED:20250624T110725Z
UID:149346-1751646600-1751657400@www.herzog-magazin.de
SUMMARY:Kreativ im Museum
DESCRIPTION:„Komm und lass den Stift tanzen!“ In diesem Workshop für Erwachsene geht es darum\, ganz spontan zu sein\, die Freiheit des Zeichnens zu genießen und mit jedem Strich ein Stück Kunst zu schaffen. Museumsleiter Marcell Perse führt durch die Kreativstunde\, am Freitag\, 4. Juli ab 16.30 Uhr\, um sich von den Impulsen der Ausstellung über Schirmers Italienreise inspirieren zu lassen: „ganz ohne Druck\, nur du\, das Papier und die Welt um dich. Lass dich von Licht und Schatten treiben und entdecke\, wie viel Kunst in einem Moment steckt.“ \nDer Workshop findet im Pulvermagazin statt\, der Kostenbeitrag beträgt 7 Euro / ermäßigt 2 Euro bei Jahreskarte. Eine Anmeldung ist unter www.museum-zitadelle.de/veranstaltungen erforderlich \n
URL:https://www.herzog-magazin.de/event/kreativ-im-museum/
LOCATION:Pulvermagazin der Zitadelle\, Zitadelle Jülich\, Jülich\, NRW\, 52428\, Deutschland
CATEGORIES:Kunst & Design,Workshop
ATTACH;FMTTYPE=image/jpeg:https://www.herzog-magazin.de/wp-content/uploads/2025/06/Foto-Licht-und-Schatten-Italien_crop-scaled-Kopie.jpg
END:VEVENT
END:VCALENDAR