    BEGIN:VCALENDAR
VERSION:2.0
PRODID:-//HERZOG Kultur- &amp; Stadtmagazin - ECPv4.9.2//NONSGML v1.0//EN
CALSCALE:GREGORIAN
METHOD:PUBLISH
X-WR-CALNAME:HERZOG Kultur- &amp; Stadtmagazin
X-ORIGINAL-URL:https://www.herzog-magazin.de
X-WR-CALDESC:Veranstaltungen im HERZOG Kultur- &amp; Stadtmagazin
BEGIN:VEVENT
DTSTART;TZID=Europe/Berlin:20230917T103000
DTEND;TZID=Europe/Berlin:20230917T180000
DTSTAMP:20260423T181623
CREATED:20230904T170213Z
LAST-MODIFIED:20230904T170223Z
UID:113600-1694946600-1694973600@www.herzog-magazin.de
SUMMARY:Kreis Düren: Rad-Aktionstag
DESCRIPTION:Der beliebte Rad-Aktionstag des Kreises Düren für Jung und Alt findet am Sonntag\, 17. September\, statt. Start der Fahrradtour ist die Goltstein-Schule in Inden / Altdorf am Fuße des Indemanns (Merödgener Straße 33). Dort stehen Parkmöglichkeiten zur Verfügung.  \n„Der Rad-Aktionstag ist nicht nur eine gute Gelegenheit\, die Region neu kennenzulernen und in Bewegung zu bleiben. Hier mischen sich auch die Generationen und verbringen gemeinsam ihre Freizeit. Wir freuen uns\, mit vielen ins Gespräch zu kommen und einen tollen Tag zu erleben”\, sagt Landrat Wolfgang Spelthahn\, der auch in diesem Jahr wieder mitfährt. Ziel der rund 35 Kilometer langen Strecke\, die über vorwiegend flache Wege der Gemeinden Inden und Langerwehe sowie der Stadt Düren führt\, ist diesmal der Indemann.  \nAn diesem Tag können sich Interessierte ab 9.30 Uhr anmelden und ein kostenfreies Verpflegungspaket erhalten. Start der Tour ist um 10.30 Uhr. Selbstverständlich ist ein Einstieg in die Fahrradtour an jedem beliebigen Punkt möglich. Nach der Rückkehr am frühen Nachmittag erwartet alle Teilnehmenden ein umfangreiches Programm mit Spiel und Spaß bis circa 18 Uhr.  \nAlle Angebote wie Fußball- und Minigolf\, Trampolin-Bungee\, Gästeführungen können kostenlos genutzt werden. Für das leibliche Wohl ist ebenfalls gesorgt. Zusätzlich warten verschiedene Giveaways\, eine Foto-Fun Aktion und zahlreiche Informationsstände unter anderem des Kreises Düren auf die Fahrerinnen und Fahrer. Ermöglicht wird der Rad-Aktionstag auch diesmal wieder dank der freundlichen Unterstützung der Sparkasse Düren. \nInfos zum Ablauf: Ab 9.30 Uhr beginnt die Anmeldung und Ausgabe von Verpflegungspaketen an der Goltstein-Schule Inden. Landrat Wolfgang Spelthahn begrüßt die Mitfahrenden kurz vor dem Start um 10.30 Uhr. Die Erste Pause ist am Schützenheim Langerwehe-Schlich\, die zweite an der Sportanlage Inden-Schophoven. Gegen 13.30 ist Ankunft am Indemann. Um 18 Uhr endet der Radaktionstag mit den Veranstaltungsangeboten. \n
URL:https://www.herzog-magazin.de/event/kreis-dueren-rad-aktionstag-2/
LOCATION:Indemann\, Goltsteinkuppe\, Inden-Altdorf\, NRW\, 52449\, Deutschland
GEO:50.849636;6.367146
X-APPLE-STRUCTURED-LOCATION;VALUE=URI;X-ADDRESS=Indemann Goltsteinkuppe Inden-Altdorf NRW 52449 Deutschland;X-APPLE-RADIUS=500;X-TITLE=Goltsteinkuppe:geo:6.367146,50.849636
CATEGORIES:Exkursion,Gesundheit,Sport
ATTACH;FMTTYPE=image/jpeg:https://www.herzog-magazin.de/wp-content/uploads/2023/09/Rad-Aktionstag-Kreis-Dueren-Netz.jpg
ORGANIZER;CN="Kreis%20D%C3%BCren":MAILTO:mail@kreis-dueren.de
END:VEVENT
END:VCALENDAR