    BEGIN:VCALENDAR
VERSION:2.0
PRODID:-//HERZOG Kultur- &amp; Stadtmagazin - ECPv4.9.2//NONSGML v1.0//EN
CALSCALE:GREGORIAN
METHOD:PUBLISH
X-WR-CALNAME:HERZOG Kultur- &amp; Stadtmagazin
X-ORIGINAL-URL:https://www.herzog-magazin.de
X-WR-CALDESC:Veranstaltungen im HERZOG Kultur- &amp; Stadtmagazin
BEGIN:VEVENT
DTSTART;TZID=Europe/Berlin:20231118T160000
DTEND;TZID=Europe/Berlin:20231118T160000
DTSTAMP:20260419T190121
CREATED:20231027T122439Z
LAST-MODIFIED:20231027T122523Z
UID:117319-1700323200-1700323200@www.herzog-magazin.de
SUMMARY:Trauerfeier auf der Kriegsgräberstätte
DESCRIPTION:Am Vorabend des diesjährigen Volkstrauertages\, Samstag\, 18. November\, veranstaltet der Ortsverband des Volksbundes Deutsche Kriegsgräberfürsorge e.V. eine Trauerfeier für die Toten beider Weltkriege und für die Toten des 16.11.1944. Die Trauerfeier findet um 16 Uhr auf der Jülicher Kriegsgräberstätte an der Linnicher Straße statt. \n
URL:https://www.herzog-magazin.de/event/kriegsgraeberfuersorge-trauerfeier/
LOCATION:Innenstadt Jülich\, Marktplatz\, Jülich\, NRW\, 52428\, Deutschland
GEO:50.9218687;6.3578988
X-APPLE-STRUCTURED-LOCATION;VALUE=URI;X-ADDRESS=Innenstadt Jülich Marktplatz Jülich NRW 52428 Deutschland;X-APPLE-RADIUS=500;X-TITLE=Marktplatz:geo:6.3578988,50.9218687
CATEGORIES:Sonstiges
ATTACH;FMTTYPE=image/jpeg:https://www.herzog-magazin.de/wp-content/uploads/2021/11/ehrenfriedhofIMG_3716.jpg
END:VEVENT
END:VCALENDAR