    BEGIN:VCALENDAR
VERSION:2.0
PRODID:-//HERZOG Kultur- &amp; Stadtmagazin - ECPv4.9.2//NONSGML v1.0//EN
CALSCALE:GREGORIAN
METHOD:PUBLISH
X-WR-CALNAME:HERZOG Kultur- &amp; Stadtmagazin
X-ORIGINAL-URL:https://www.herzog-magazin.de
X-WR-CALDESC:Veranstaltungen im HERZOG Kultur- &amp; Stadtmagazin
BEGIN:VEVENT
DTSTART;TZID=Europe/Berlin:20191129T120000
DTEND;TZID=Europe/Berlin:20191129T190000
DTSTAMP:20260421T201753
CREATED:20191124T132438Z
LAST-MODIFIED:20191124T132438Z
UID:31410-1575028800-1575054000@www.herzog-magazin.de
SUMMARY:Krippe an der Grünstraße / Kleine Rurstraße
DESCRIPTION:Zur Krippen-Eröffung lädt die Straßengemeinschaft Kleine Rurstraße / Grünstraße am Freitag\, 29. November\, ein. Die Eröffnung der Krippe an der Ecke Grünstraße / Kleine Rurstraße nimmt Bürgermeister Axel Fuchs um 16:30 Uhr vor. Die musikalische Gestaltung übernimmt das Musik-Café Ü60. Zu den Adventswochenenden des Krippenmarkt können neben heißen Getränken und Reibekuchen auch die begehrten Sammeltassen erstanden werden. Der Markt ist freitags\, samstags und sonntags jeweils von 12:00 bis 19:00 Uhr geöffnet. \nZudem begrüßt am Freitag\, 6. Dezember\, der Nikolaus Kinder ab 16:00 Uhr an der Krippe. Anschließend wird gemeinsam zur Stadtbücherei gezogen\, wo der Nikolaus alle Kinder empfängt und ihnen eine Überraschung gibt. Außerdem tragen die Lesepaten Geschichten zur Adventszeit vor. Diese Veranstaltung wird von Schülern der Musikschule Jülich begleitet. \n
URL:https://www.herzog-magazin.de/event/krippe-an-der-gruenstrasse-kleine-rurstrasse/2019-11-29/
LOCATION:NRW\, Deutschland
CATEGORIES:Brauchtum,Festival & Markt,Musik,Musik & Konzerte
ATTACH;FMTTYPE=image/jpeg:https://www.herzog-magazin.de/wp-content/uploads/2019/11/IG-Kl-Rurstraße-Nikolaus.jpg
ORGANIZER;CN="Stra%C3%9Fengemeinschaft%20Kleine%20Rurstr.%2FGru%CC%88nstra.e%20e.V.":MAILTO:uli@backhausen-buero.de
END:VEVENT
END:VCALENDAR