    BEGIN:VCALENDAR
VERSION:2.0
PRODID:-//HERZOG Kultur- &amp; Stadtmagazin - ECPv4.9.2//NONSGML v1.0//EN
CALSCALE:GREGORIAN
METHOD:PUBLISH
X-WR-CALNAME:HERZOG Kultur- &amp; Stadtmagazin
X-ORIGINAL-URL:https://www.herzog-magazin.de
X-WR-CALDESC:Veranstaltungen im HERZOG Kultur- &amp; Stadtmagazin
BEGIN:VEVENT
DTSTART;TZID=Europe/Berlin:20191128T180000
DTEND;TZID=Europe/Berlin:20191128T200000
DTSTAMP:20260422T043533
CREATED:20191114T083821Z
LAST-MODIFIED:20191114T083821Z
UID:31078-1574964000-1574971200@www.herzog-magazin.de
SUMMARY:KSG-Diskussionsforum: der verbesserte Mensch
DESCRIPTION:Seit zwanzig Jahren veranstaltet die KSG Jülich in Kooperation mit der Fachhochschule das Diskussionsforum “Technik\, Wirtschaft\, Ethik”. Auch in diesem Wintersemester gibt es am Donnerstag\, 28. November\, ein spannendes Diskussionsforum. Unter dem Thema “Der verbesserte Mensch – CRISPR / Cas9 & Co – darf auch die menschliche Keimbahn verändert werden?” diskutiert.  \nDas Forum findet von 18:00 bis 20:00 Uhr im Auditorium\, Heinrich-Mussmann-Straße 1\, statt. Gesprächspartner sind Prof. Dr. Dr. Wolfgang Wagner\, Institut für biomedizinische Technologie – Zellbiologie\, Uniklinik RWTH Aachen; Prof. Dr. Dr. Thomas Heinemann\, Lehrstuhl Ethik\, Theorie und Geschichte der Medizin\, Philosophische-Theologische Hochschule Vallendar; Prof. Dr. Ingo Kurth\, Institut für Humangenetik\, Uniklinik RWTH Aachen. Die Moderation übernimmt Barbara Baumann (Aachen). \n
URL:https://www.herzog-magazin.de/event/ksg-diskussionsforum-der-verbesserte-mensch/
LOCATION:FH Aachen Campus Jülich\, Heinrich-Mußmann-Str.1\, Jülich\, NRW\, 52428\, Deutschland
CATEGORIES:Informationsveranstaltung,Wissenschaft
ATTACH;FMTTYPE=image/jpeg:https://www.herzog-magazin.de/wp-content/uploads/2019/11/KSG-Plakat-Forum-fh2019-Netz.jpg
ORGANIZER;CN="KSG%20J%C3%BClich":MAILTO:ksg.juelich@fh-aachen.de
END:VEVENT
END:VCALENDAR