    BEGIN:VCALENDAR
VERSION:2.0
PRODID:-//HERZOG Kultur- &amp; Stadtmagazin - ECPv4.9.2//NONSGML v1.0//EN
CALSCALE:GREGORIAN
METHOD:PUBLISH
X-WR-CALNAME:HERZOG Kultur- &amp; Stadtmagazin
X-ORIGINAL-URL:https://www.herzog-magazin.de
X-WR-CALDESC:Veranstaltungen im HERZOG Kultur- &amp; Stadtmagazin
BEGIN:VEVENT
DTSTART;TZID=Europe/Berlin:20220611T183000
DTEND;TZID=Europe/Berlin:20220611T183000
DTSTAMP:20260426T034618
CREATED:20220601T131952Z
LAST-MODIFIED:20220601T132054Z
UID:81311-1654972200-1654972200@www.herzog-magazin.de
SUMMARY:KuBa: Kaschämm & Les 6 Kölsch 1 Cola
DESCRIPTION:Die beiden Stimmungsbands Kaschämm und Les 6 Kölsch 1 Cola geben ein KuBa-Biergarten-Konzert am Samstag\, 11. Juni. Einlass in den Biergarten vom Kulturbahnhof Jülich\, Bahnhofstraße 13\, wird ab 17 Uhr gewährt. Les 6 Kölsch 1 Cola spielen um 18.30 Uhr und Kaschämm um 20.30 Uhr. \nCover op die kölsche Art:  Unter diesem Motto haben sich die  Musiker von Kaschämm gesucht und gefunden. Wie es sich für eine richtige Karnevalsband gehört\, startete ihre Reise durch die Säle und Zelte Kölns und dessen Umlandes. Seitdem heizen Sie erfolgreich und 100 Prozent live mit bekannten Hits der Kölschen Musikszene einer Veranstaltung nach der anderen ein.  \nMittlerweile machen sie auch vor großen Bühnen keinen Halt mehr\, Konzerte vor mehreren Tausend Zuschauern wie beim Löwenfestival in Remscheid\, dem Viva Colonia Festzelt in Köln oder im Seidenweberhaus in Krefeld können sich die Jungs und dat Mädel auf die Fahne schreiben. Gelungene Arrangements mit eigenem Touch\, mehrstimmiger Gesang und der offensichtliche Spaß an den kölschen Liedern auf der Bühne prägt das Gesamtbild der Band. Die Zuschauer können sich immer auf Stimmung und rheinischen Frohsinn freuen. \n„Lev Marie\, die Jahre ziehen ins Land\, und wir trinken immer noch… Seit einer Iwigkeit haben Les 6 Kölsch 1 Cola\, die Stimmungskapelle der CCKG\, nicht mehr in ihrem Veedel gespielt. Dabei war’s immer schön\, so schön in der kleinen Kneipe. Immer wieder samstags\, 11. Juni\, losse mer d’r Dom in Kölle und feiern im KuBa-Biergarten Karneval im Sommer. Drink doch eine met!“ \nTickets kosten im Vorverkauf 14 Euro inklusive Gebühren. Tickets gibt es online über die KuBa-Webseite www.kuba-juelich.de oder bei der Buchhandlung Thalia in Jülich. \n
URL:https://www.herzog-magazin.de/event/kuba-biergarten-kaschaemm-und-les-6-koelsch-1-cola/
LOCATION:KuBa-Biergarten\, Bahnhofstr. 13\, Jülich\, NRW\, 52428\, Deutschland
CATEGORIES:Brauchtum,Musik,Musik & Konzerte
ATTACH;FMTTYPE=image/jpeg:https://www.herzog-magazin.de/wp-content/uploads/2022/06/Les6Koelsch_Presse_Foto_by_Dorothee-Schenk-Herzog-Magazin-Netz.jpg
ORGANIZER;CN="Kultur%20im%20Bahnhof%20e.V.":MAILTO:info@kuba-juelich.de
END:VEVENT
END:VCALENDAR