    BEGIN:VCALENDAR
VERSION:2.0
PRODID:-//HERZOG Kultur- &amp; Stadtmagazin - ECPv4.9.2//NONSGML v1.0//EN
CALSCALE:GREGORIAN
METHOD:PUBLISH
X-WR-CALNAME:HERZOG Kultur- &amp; Stadtmagazin
X-ORIGINAL-URL:https://www.herzog-magazin.de
X-WR-CALDESC:Veranstaltungen im HERZOG Kultur- &amp; Stadtmagazin
BEGIN:VEVENT
DTSTART;TZID=Europe/Berlin:20220409T200000
DTEND;TZID=Europe/Berlin:20220409T200000
DTSTAMP:20260422T224107
CREATED:20220328T131850Z
LAST-MODIFIED:20220328T134604Z
UID:76629-1649534400-1649534400@www.herzog-magazin.de
SUMMARY:KuBa: Kabarett mit Barbara Ruscher
DESCRIPTION:Ruscher hat Vorfahrt: Die brennenden Themen der Zeit knüpft sich die bekannte Kabarett-Lady\, WDR-Radiokolumnistin und alleinerziehende Mutter Barbara Ruscher in satirisch bissiger und charmanter Art in ihrem neuen Programm „Mutter ist die Bestie“ vor. In der Reihe „Watt zum Lachen“\, einer Kooperation der Stadt Jülich / Kulturbüro und Kultur im Bahnhof e.V. ist Barbara Ruscher am Samstag\, 9. April\, um 20 Uhr zu Gast im Kulturbahnhof Jülich.  \nWer weiß schon genau\, wer man ist? Ist man der Typ ‚Earth\, Wind and Eier‘ mit Hang zur eigenen Hühnerhaltung\, aber gegen Windräder\, sobald sie vorm Wohnhaus stehen? Wo fängt gesellschaftliche Verantwortung an und wo sind die Grenzen? Warum ist der Nachbar ein natur-affiner Stand-up-Paddeling-Fetischist\, hat aber vorm Haus einen Schottergarten des Grauens? Menschen verhalten sich ambivalent\, und Mutter Erde hat langsam die Schnauze voll.  \nEin Abend über Partnerportale\, Nachhaltigkeit\, Familie\, Cancel Culture\, Patchwork im Wohnwagen\, Klimawandel\, SUP\, Rassismus\, Welpen-Schwemme aus dem Dognet. Denn seit dem Lockdown hat jeder ein Haustier. Wer keins hat\, hat Alexa. Barbara Ruscher ist die großartige Kabarett-Bestie im doppelten Sinne – hemmungslos die Gesellschaft zerfleischend und zugleich beste Freundin des Publikums. Das Publikum kann sich von versierter weiblicher Satire vom Feinsten berauschen lassen. Herrlich böse\, selbstironisch und vor allem unfassbar lustig. \nKarten sind im Vorverkauf zu 17 Euro (Abendkasse 20 Euro) bei Thalia\, Kölnstraße 9\, und unter www.juelich.de/kulturbuero erhältlich. \nFotograf: Christoph-Hardt \n
URL:https://www.herzog-magazin.de/event/kuba-kabarett-mit-barbara-ruscher/
LOCATION:Kulturbahnhof (KuBa) Jülich\, Bahnhofsstraße 13\, Jülich\, NRW\, 52428\, Deutschland
GEO:50.91828;6.36768
X-APPLE-STRUCTURED-LOCATION;VALUE=URI;X-ADDRESS=Kulturbahnhof (KuBa) Jülich Bahnhofsstraße 13 Jülich NRW 52428 Deutschland;X-APPLE-RADIUS=500;X-TITLE=Bahnhofsstraße 13:geo:6.36768,50.91828
CATEGORIES:Kabarett & Comedy
ATTACH;FMTTYPE=image/jpeg:https://www.herzog-magazin.de/wp-content/uploads/2022/03/Barbara-Ruscher-Fotograf-Christoph-Hardt.jpg
ORGANIZER;CN="Kulturb%C3%BCro%20J%C3%BClich":MAILTO:Nklingebiel@juelich.de
END:VEVENT
END:VCALENDAR