    BEGIN:VCALENDAR
VERSION:2.0
PRODID:-//HERZOG Kultur- &amp; Stadtmagazin - ECPv4.9.2//NONSGML v1.0//EN
CALSCALE:GREGORIAN
METHOD:PUBLISH
X-WR-CALNAME:HERZOG Kultur- &amp; Stadtmagazin
X-ORIGINAL-URL:https://www.herzog-magazin.de
X-WR-CALDESC:Veranstaltungen im HERZOG Kultur- &amp; Stadtmagazin
BEGIN:VEVENT
DTSTART;TZID=Europe/Berlin:20220428T100000
DTEND;TZID=Europe/Berlin:20220428T100000
DTSTAMP:20260422T092957
CREATED:20220328T135228Z
LAST-MODIFIED:20220328T135228Z
UID:76638-1651140000-1651140000@www.herzog-magazin.de
SUMMARY:KuBa: Kindertheater mit Einhorn
DESCRIPTION:Eine magische Freundschaft: Das Einhorn mag keine Drachen. Das ist einfach so. Doch plötzlich ist einer da\, und nichts ist mehr einfach so. Jetzt müssen Einhorn und Drache teilen. Das Schiff\, das Flugzeug\, die Lokomotive und die Aufmerksamkeit. Da kommt es schnell zum Streit\, und alles fällt auseinander. Da hilft nur noch Zaubern. \nDas Theater Urknall spielt das Stück „Bei Vollmond spricht man nicht“ am Donnerstag\, 28. April\, um 19 Uhr im Kulturbahnhof Jülich. Es ist eine fabelhafte Geschichte über eine magische Freundschaft zweier Fabelwesen\, die jeder kennt\, aber so noch nie gesehen hat.  \nDas Puppentheater ist für Kinder ab 3 Jahren geeignet. Karten sind zu 6 Euro für Kinder\, 8 Euro für Erwachsene im Vorverkauf im Kulturbüro Stadt Jülich unter 02461 / 63-243 oder -416 erhältlich.  Gruppenanmeldungen sind hier ebenfalls möglich. \nEin Zugang zur Veranstaltung erfolgt nur unter den aktuell geltenden Corona-Bestimmungen. \n
URL:https://www.herzog-magazin.de/event/kuba-kindertheater-mit-einhorn/
LOCATION:Kulturbahnhof (KuBa) Jülich\, Bahnhofsstraße 13\, Jülich\, NRW\, 52428\, Deutschland
GEO:50.91828;6.36768
X-APPLE-STRUCTURED-LOCATION;VALUE=URI;X-ADDRESS=Kulturbahnhof (KuBa) Jülich Bahnhofsstraße 13 Jülich NRW 52428 Deutschland;X-APPLE-RADIUS=500;X-TITLE=Bahnhofsstraße 13:geo:6.36768,50.91828
CATEGORIES:Theater
ATTACH;FMTTYPE=image/jpeg:https://www.herzog-magazin.de/wp-content/uploads/2022/03/Einhorn_Foto_Angelique_Preau.jpg
ORGANIZER;CN="Kulturb%C3%BCro%20J%C3%BClich":MAILTO:Nklingebiel@juelich.de
END:VEVENT
END:VCALENDAR