    BEGIN:VCALENDAR
VERSION:2.0
PRODID:-//HERZOG Kultur- &amp; Stadtmagazin - ECPv4.9.2//NONSGML v1.0//EN
CALSCALE:GREGORIAN
METHOD:PUBLISH
X-WR-CALNAME:HERZOG Kultur- &amp; Stadtmagazin
X-ORIGINAL-URL:https://www.herzog-magazin.de
X-WR-CALDESC:Veranstaltungen im HERZOG Kultur- &amp; Stadtmagazin
BEGIN:VEVENT
DTSTART;TZID=Europe/Berlin:20171231T183000
DTEND;TZID=Europe/Berlin:20171106T134620
DTSTAMP:20260421T210956
CREATED:20171106T154545Z
LAST-MODIFIED:20171220T111924Z
UID:3004-1514745000-1509975980@www.herzog-magazin.de
SUMMARY:KuBa Silvesterparty
DESCRIPTION:ALL-IN Tickets sind leider bereits vergriffen. \nFesttags-Buffet\nbis 23.00 Uhr\nAuswahl an Fleisch\, Gemüse\, Beilagen\, Salat + Nachspeisen in gemütlicher Atmosphäre in der KuBa-Festhalle. \nVielfältige Getränkeauswahl\nu.a. Becks\, Reissdorf\, Bitburger\, Becks-Lemon\, Rotwein\, Weißwein\, Sekt\, diverse Longdrinks u.a. Wodka Energy\, Gin Tonic\, Whiskey Cola\, Jägermeister\, Sambuca\, Waldmeister sowie verschiedene Softdrinks \nAll-Inclusive-Ticket\nab 19.30 Uhr\nFesttags-Buffet + Getränke\nNur im VVK: 69€ (KuBa Büro + Kiosk bis 18.12.\, keine AK) \nOnly-Bar-Ticket\nab 22.00 Uhr\nGetränke\, ohne Festtags-Buffet\nVVK: 39 € (keine Abendkasse) \n
URL:https://www.herzog-magazin.de/event/kuba-silvesterparty/
LOCATION:Kulturbahnhof (KuBa) Jülich\, Bahnhofsstraße 13\, Jülich\, NRW\, 52428\, Deutschland
GEO:50.91828;6.36768
X-APPLE-STRUCTURED-LOCATION;VALUE=URI;X-ADDRESS=Kulturbahnhof (KuBa) Jülich Bahnhofsstraße 13 Jülich NRW 52428 Deutschland;X-APPLE-RADIUS=500;X-TITLE=Bahnhofsstraße 13:geo:6.36768,50.91828
CATEGORIES:Brauchtum,Musik,Party
ATTACH;FMTTYPE=image/jpeg:https://www.herzog-magazin.de/wp-content/uploads/2017/11/Kuba-juelich-silvester.jpg
ORGANIZER;CN="Kulturbahnhof%20J%C3%BClich":MAILTO:info@kuba-juelich.de
END:VEVENT
END:VCALENDAR