    BEGIN:VCALENDAR
VERSION:2.0
PRODID:-//HERZOG Kultur- &amp; Stadtmagazin - ECPv4.9.2//NONSGML v1.0//EN
CALSCALE:GREGORIAN
METHOD:PUBLISH
X-WR-CALNAME:HERZOG Kultur- &amp; Stadtmagazin
X-ORIGINAL-URL:https://www.herzog-magazin.de
X-WR-CALDESC:Veranstaltungen im HERZOG Kultur- &amp; Stadtmagazin
BEGIN:VEVENT
DTSTART;TZID=Europe/Berlin:20220522T150000
DTEND;TZID=Europe/Berlin:20220522T150000
DTSTAMP:20260423T021840
CREATED:20220412T141028Z
LAST-MODIFIED:20220412T141059Z
UID:77651-1653231600-1653231600@www.herzog-magazin.de
SUMMARY:Kultur ohne Grenzen: Friedenskonzert
DESCRIPTION:„Ein poetisches Friedenskonzert“: Ofer Golany & Alexander Meyen sind am Sonntag\, 22. Mai\, zu Gast bei Kultur ohne Grenzen im Biergarten des Kulturbahnhofs Jülich. Beginn ist um 15 Uhr\, Einlass wird ab 14 Uhr gewährt. Der Eintritt ist frei; die Band freut sich aber über eine Spende. \nPolitisch-poetischer Liedermacher\, Globetrotter und musikalischer Friedensaktivist: Ofer Golany ist in Jerusalem geboren\, lebt nach seiner Jugend in mehreren Städten der USA und heute wieder in Israel. Er musizierte sowohl mit US-amerikanischen Veteranen in Boston und San Francisco als auch mit Kriegsversehrten in Bosnien.  \nAuf seinen Reisen in Europa und Indien trat er mit etlichen Duos\, Trios und mehrköpfigen Bands oder als Solist auf. Sein breit gefächertes musikalisches Repertoire umspannt mühelos Jazz\, Blues und Folk mit einem unverkennbaren Einfluss des Klezmer im Zusammenklang mit Rhythmen des Samba\, Swing und Flamenco und spiegelt damit all die Erfahrungen wider\, die Ofer in Israel\, Palästina und auf seinen Reisen gesammelt hat. Meist singt er in englisch\, gelegentlich auch in hebräisch\, deutsch oder anderen Sprachen.  \nSeit Jahren spielt er\, der israelische Kriegsdienstverweigerer\, zusammen mit Alexander Meyen\, dem fremdenfreundlichen Geiger mit jüdischen Wurzeln aus Köln. Gemeinsam verpassen sie ihrem Publikum eine musikalische\, zeitweise meditative und humoristische Seelenmassage. \n„Kultur ohne Grenzen“ vermittelt kostenfrei geflüchtete Künstlerinnen und Künstler und organisiert Konzerte. Der Verein wurde 1999 gegründet und im Jahr 2015 zweiter Preisträger des Deutschen Bürgerpreises\, Deutschlands größtem Ehrenamtspreis. \n
URL:https://www.herzog-magazin.de/event/kultur-ohne-grenzen-poetisches-friedenskonzert/
LOCATION:KuBa-Biergarten\, Bahnhofstr. 13\, Jülich\, NRW\, 52428\, Deutschland
CATEGORIES:Musik,Musik & Konzerte
ATTACH;FMTTYPE=image/jpeg:https://www.herzog-magazin.de/wp-content/uploads/2022/04/Ofer-Golany-Alexander-Meyen.jpg
END:VEVENT
END:VCALENDAR