    BEGIN:VCALENDAR
VERSION:2.0
PRODID:-//HERZOG Kultur- &amp; Stadtmagazin - ECPv4.9.2//NONSGML v1.0//EN
CALSCALE:GREGORIAN
METHOD:PUBLISH
X-WR-CALNAME:HERZOG Kultur- &amp; Stadtmagazin
X-ORIGINAL-URL:https://www.herzog-magazin.de
X-WR-CALDESC:Veranstaltungen im HERZOG Kultur- &amp; Stadtmagazin
BEGIN:VEVENT
DTSTART;TZID=Europe/Berlin:20191002T093000
DTEND;TZID=Europe/Berlin:20191002T113000
DTSTAMP:20260421T184937
CREATED:20190815T085019Z
LAST-MODIFIED:20190815T085019Z
UID:27495-1570008600-1570015800@www.herzog-magazin.de
SUMMARY:Kulturcafé: Bertha Benz – starke Frau am Steuer
DESCRIPTION:Über Barbara Leisners Buch „Bertha Benz: Eine starke Frau am Steuer des ersten Automobils“ referiert Eva Behrens-Hommel  am Mittwoch\, 2. Oktober\, von 9.30 bis 11.30 Uhr beim Kulturcafé im Bonhoeffer-Haus. Dr. Barbara Leisner hat mit ihrer fesselnden Biographie\, die quellenreich ist und nach Recherchen an Originalschauplätzen entstand\, ebenso viel Beharrlichkeit bewiesen wie Bertha Benz.  \n1849 wurde Bertha als „leider“ dritte Tochter des Pforzheimer Zimmermeisters Ringer geboren. Es war ihr nicht an der Wiege gesungen\, dass sie\, die noch das „Hausmütterchen“ als Pflichtlektüre las\, in dem strebsamen\, aber mittellosen Erfinder Carl Benz die Herausforderung ihres Lebens finden sollte. Selbst aus kinderreicher Familie stammend\, gebar sie insgesamt fünf Kinder\, in beengten Lebensverhältnissen über Jahrzehnte von Geldsorgen getrieben.  \nSo genial Benz als Erfinder war\, so unbedarft war er in Gelddingen. Es war Bertha\, die Kredite in der Verwandtschaft zusammenbettelte\, nachdem sie schon ihr Erbteil in seine Werkstatt eingebracht hatte\, Gelder\, die dennoch nie ausreichten und weitere Schulden anhäuften. Und es war Bertha\, die 1888 mit einer beispiellosen Tat das erste Automobil der Welt zu Bekanntheit und endlich\, gegen alle Spötter und große Konkurrenz\, schließlich auch zum Durchbruch in der Verkehrswelt führte. \nDas Kulturcafé am Morgen öffnet jeden ersten Mittwoch im Monat von 9.30 bis 11.30 Uhr. Das Team bietet ein Frühstücksbuffet und lädt zum gemeinsamen Schlemmen und Gespräch ein. Ein Kostenbeitrag von 5 Euro für Frühstück und Kultur wird erhoben. Eine Anmeldung ist nicht erforderlich. \n
URL:https://www.herzog-magazin.de/event/kulturcafe-bertha-benz-starke-frau-am-steuer/
LOCATION:Dietrich-Bonhoeffer-Haus\, Düsseldorfer Straße 30\, Jülich\, NRW\, 52428\, Deutschland
GEO:50.924319;6.3564769
X-APPLE-STRUCTURED-LOCATION;VALUE=URI;X-ADDRESS=Dietrich-Bonhoeffer-Haus Düsseldorfer Straße 30 Jülich NRW 52428 Deutschland;X-APPLE-RADIUS=500;X-TITLE=Düsseldorfer Straße 30:geo:6.3564769,50.924319
CATEGORIES:kulturelle Bildung,Literatur,Vortrag
ATTACH;FMTTYPE=image/jpeg:https://www.herzog-magazin.de/wp-content/uploads/2018/05/books-1655783_960_720.jpg
END:VEVENT
END:VCALENDAR