    BEGIN:VCALENDAR
VERSION:2.0
PRODID:-//HERZOG Kultur- &amp; Stadtmagazin - ECPv4.9.2//NONSGML v1.0//EN
CALSCALE:GREGORIAN
METHOD:PUBLISH
X-WR-CALNAME:HERZOG Kultur- &amp; Stadtmagazin
X-ORIGINAL-URL:https://www.herzog-magazin.de
X-WR-CALDESC:Veranstaltungen im HERZOG Kultur- &amp; Stadtmagazin
BEGIN:VEVENT
DTSTART;TZID=Europe/Berlin:20251203T100000
DTEND;TZID=Europe/Berlin:20251203T113000
DTSTAMP:20260426T013712
CREATED:20250828T102930Z
LAST-MODIFIED:20251123T083115Z
UID:153681-1764756000-1764761400@www.herzog-magazin.de
SUMMARY:KulturCafé: Der Stern von Bethlehem
DESCRIPTION:KULTurCafé am Morgen findet jeden ersten Mittwoch im Monat von 10 bis 11.30 Uhr im Dietrich-Bonhoeffer-Haus statt. \nDr. Rainer Sprickmann referiert am Mittwoch\, 3. Dezember zum Thema  „Der Stern von Bethlehem – Mythos oder Wahrheit?“. \nRechtzeitig zur kommenden Weihnachtszeit wollen wir noch einmal die Geschichte vom Stern von Bethlehem erzählen. Wirklich ein Stern? Oder ein Komet? Oder doch eine andere Himmelserscheinung? Oder ist das Ganze nur eine schöne Legende? Wir wollen uns ein Bild machen. \nDer Beitrag beträgt 3 Euro. \n
URL:https://www.herzog-magazin.de/event/kulturcafe-der-stern-von-bethlehem/
LOCATION:Dietrich-Bonhoeffer-Haus\, Düsseldorfer Straße 30\, Jülich\, NRW\, 52428\, Deutschland
GEO:50.924319;6.3564769
X-APPLE-STRUCTURED-LOCATION;VALUE=URI;X-ADDRESS=Dietrich-Bonhoeffer-Haus Düsseldorfer Straße 30 Jülich NRW 52428 Deutschland;X-APPLE-RADIUS=500;X-TITLE=Düsseldorfer Straße 30:geo:6.3564769,50.924319
CATEGORIES:Informationsveranstaltung,Technik,Vortrag
ATTACH;FMTTYPE=image/jpeg:https://www.herzog-magazin.de/wp-content/uploads/2022/11/Dietrich-Bonhoeffer-Haus-Netz-Foto-PuKBSuS.jpg
ORGANIZER;CN="Evangelische%20Kirchengemeinde%20J%C3%BClich":MAILTO:juelich@ekir.de
END:VEVENT
END:VCALENDAR