    BEGIN:VCALENDAR
VERSION:2.0
PRODID:-//HERZOG Kultur- &amp; Stadtmagazin - ECPv4.9.2//NONSGML v1.0//EN
CALSCALE:GREGORIAN
METHOD:PUBLISH
X-WR-CALNAME:HERZOG Kultur- &amp; Stadtmagazin
X-ORIGINAL-URL:https://www.herzog-magazin.de
X-WR-CALDESC:Veranstaltungen im HERZOG Kultur- &amp; Stadtmagazin
BEGIN:VEVENT
DTSTART;TZID=Europe/Berlin:20230924T170000
DTEND;TZID=Europe/Berlin:20230924T170000
DTSTAMP:20260423T090329
CREATED:20230914T183216Z
LAST-MODIFIED:20230914T183216Z
UID:114378-1695574800-1695574800@www.herzog-magazin.de
SUMMARY:Kultursommer Linnich: „der Wanderer“
DESCRIPTION:Der Wanderer – ist das Ergebnis der Zusammenarbeit vier junger Musizierenden der Aachener und Maastrichter Szene. Im Deutschen Glasmalereimuseum Linnich ist das Quartett am Sonntag\, 24. September\, um 17 Uhr im Rahmen des Linnicher Kultursommers zu hören. \nDie Komponistin Hon Ning Cheung und der Komponist Andy Janssen bringen in diesem Konzertprogramm zusammen mit der Sopranistin Alina Palus und der Pianistin Lilian Phan frische Werke zur Uraufführung. Hierbei steht vor allem ein Instrument im Fokus\, nämlich die chromatische Harmonika\, ein gemessen an der klassischen Musikgeschichte vergleichsweise junges Instrument\, zu dessen Repertoire das internationale Neue Musik-Ensemble beitragen möchte.  \nGanz dem Motto des Konzerts entsprechend behandeln die Stücke Themen wie Sehnsucht\, die Suche nach neuen Eindrücken und Fern-\, gleichermaßen aber auch Heimweh. Dabei stehen vertraute Formen und Harmonien Seite an Seite mit experimentelleren Klängen und regen damit zum Träumen\, hier und da vielleicht auch zum Nachdenken an.  \nDer Eintritt beträgt im Vorverkauf 15 Euro\, an der Abendkasse 17 Euro. Anmeldungen werden unter gerards@wirinlinnich.de entgegengenommen. \n
URL:https://www.herzog-magazin.de/event/kultursommer-linnich-der-wanderer/
LOCATION:Deutsches Glasmalerei-Museum Linnich\, Rurstraße 9-11\, Linnich\, NRW\, 52441\, Deutschland
CATEGORIES:Musik,Musik & Konzerte
ATTACH;FMTTYPE=image/jpeg:https://www.herzog-magazin.de/wp-content/uploads/2023/09/Aachener-Gruppe_der_Wanderer_Foto_Veranstalter.jpg
ORGANIZER;CN="Wir%20in%20Linnich":MAILTO:kultusommer@wirinlinnich.de
END:VEVENT
END:VCALENDAR