    BEGIN:VCALENDAR
VERSION:2.0
PRODID:-//HERZOG Kultur- &amp; Stadtmagazin - ECPv4.9.2//NONSGML v1.0//EN
CALSCALE:GREGORIAN
METHOD:PUBLISH
X-WR-CALNAME:HERZOG Kultur- &amp; Stadtmagazin
X-ORIGINAL-URL:https://www.herzog-magazin.de
X-WR-CALDESC:Veranstaltungen im HERZOG Kultur- &amp; Stadtmagazin
BEGIN:VEVENT
DTSTART;TZID=Europe/Berlin:20241019T110000
DTEND;TZID=Europe/Berlin:20241019T140000
DTSTAMP:20260420T131343
CREATED:20241002T101247Z
LAST-MODIFIED:20241007T070229Z
UID:133359-1729335600-1729346400@www.herzog-magazin.de
SUMMARY:Kulturwerkstatt: ART-SPÄTSCHICHT
DESCRIPTION:Die Kunstverein lädt in die Kulturwerkstatt\, Düsseldorfer Str. 10 zur Ausstellung „Bänder Fäden Bewegung“ ab Mittwoch 16. Oktober bis einschließlich 23. November ein. Die Ausstellung ist donnerstags von 11-17 Uhr sowie samstags von 11-14 Uhr geöffnet. Zu den Ausstellern gehören Hans Peter Bochem\, Leo Brenner\, Peer Kling\, Michael Küpper\, Rosy Küpper\, Monika Langthaler\, Gerold Malß und Kirsten Müller-Lehnen. \n
URL:https://www.herzog-magazin.de/event/kulturwerkstatt-art-spaetschicht-copy/2024-10-19/
LOCATION:Kulturwerkstatt\, Düsseldorfer Str. 10\, Jülich\, NRW\, 52428\, Deutschland
CATEGORIES:Ausstellung,Kunst & Design
ATTACH;FMTTYPE=image/jpeg:https://www.herzog-magazin.de/wp-content/uploads/2024/10/Spätschicht-Einladung-web.jpg
ORGANIZER;CN="Kunstverein%20J%C3%BClich%20e.V.":MAILTO:kimuleh@gmx.de
END:VEVENT
END:VCALENDAR