    BEGIN:VCALENDAR
VERSION:2.0
PRODID:-//HERZOG Kultur- &amp; Stadtmagazin - ECPv4.9.2//NONSGML v1.0//EN
CALSCALE:GREGORIAN
METHOD:PUBLISH
X-WR-CALNAME:HERZOG Kultur- &amp; Stadtmagazin
X-ORIGINAL-URL:https://www.herzog-magazin.de
X-WR-CALDESC:Veranstaltungen im HERZOG Kultur- &amp; Stadtmagazin
BEGIN:VEVENT
DTSTART;TZID=Europe/Berlin:20230909T110000
DTEND;TZID=Europe/Berlin:20230909T180000
DTSTAMP:20260420T033255
CREATED:20230810T102046Z
LAST-MODIFIED:20230810T102046Z
UID:112165-1694257200-1694282400@www.herzog-magazin.de
SUMMARY:Kunst im Pfarrgarten Güsten
DESCRIPTION:Kunsthandwerk im Pfarrgarten: ein Wochenende Kunst\, Musik und Gaumenschmaus in Güsten. Unter dem Motto „Kunst im Garten – Kost für Leib und Seele“ laden 22 kreative Frauen und Männer am Samstag\, 9. September\, und Sonntag\, 10. September\, nach Jülich-Güsten in die Rödinger Straße 1 ein. Zum achten Mal können Besucher an beiden Tagen von 11 bis 18 Uhr bei freiem Eintritt Kunst und Handwerk bestaunen. \nMalerei auf Leinwand\, Porzellan und Eiern sowie kunstvoll bemalte Vogelhäuser und Holzstelen – Keramik und Keramik-Edelstahlkombinationen – handgefertigte Schuhe\, Taschenunikate und Accessoires – Glasmosaike und Glaskunst – Kalligrafie und Radierungen – Fundstücke\, Holzarbeiten und Papier-Drahtkunst – Pralinen\, Fotografie und Schmuck in verschiedensten Variationen – das Angebot ist sehr vielfältig. Musikalisch untermalt wird der kleine feine Kunsthandwerkermarkt an beiden Tagen vom Trio „SpellOtones“. \nSo kann in gemütlicher Atmosphäre leckerer Federweißer mit Flammkuchen oder Kaffee und Kuchen genossen werden und auch eine Weinprobe ist wieder im Angebot. Sollte das Wetter nicht gartentauglich sein\, sind Zelte aufgestellt. \nWeitere Infos und Bilder gibt es im Netz unter www.kunsthandwerk-im-garten.de sowie bei Tordis Garitz\, Tel. 02463 / 8593. \n
URL:https://www.herzog-magazin.de/event/kunst-im-pfarrgarten-guesten/2023-09-09/
LOCATION:Pfarrheim Güsten\, Rödinger Str. 1\, Jülich\, NRW\, 52428\, Deutschland
GEO:50.95949;6.43031
X-APPLE-STRUCTURED-LOCATION;VALUE=URI;X-ADDRESS=Pfarrheim Güsten Rödinger Str. 1 Jülich NRW 52428 Deutschland;X-APPLE-RADIUS=500;X-TITLE=Rödinger Str. 1:geo:6.43031,50.95949
CATEGORIES:Essen & Trinken,Festival & Markt,Fotografie,Kunst & Design,Musik,Musik & Konzerte
ATTACH;FMTTYPE=image/jpeg:https://www.herzog-magazin.de/wp-content/uploads/2023/08/Kunst_im_Garten_Foto4_Veranstalter.jpg
END:VEVENT
END:VCALENDAR