    BEGIN:VCALENDAR
VERSION:2.0
PRODID:-//HERZOG Kultur- &amp; Stadtmagazin - ECPv4.9.2//NONSGML v1.0//EN
CALSCALE:GREGORIAN
METHOD:PUBLISH
X-WR-CALNAME:HERZOG Kultur- &amp; Stadtmagazin
X-ORIGINAL-URL:https://www.herzog-magazin.de
X-WR-CALDESC:Veranstaltungen im HERZOG Kultur- &amp; Stadtmagazin
BEGIN:VEVENT
DTSTART;TZID=Europe/Berlin:20180826T110000
DTEND;TZID=Europe/Berlin:20180826T170000
DTSTAMP:20260426T021126
CREATED:20180809T134747Z
LAST-MODIFIED:20180809T134747Z
UID:15014-1535281200-1535302800@www.herzog-magazin.de
SUMMARY:Kunst trifft Handwerk
DESCRIPTION:Bei der 5. Ausstellung „Kunst trifft Handwerk“ zeigen bei „ihr schreiner freialdenhoven“ elf Kunsttreibende ihre Werke: Jörg Ross präsentiert Unikate aus Edelholz\, Jasmin Schlösser Werke aus dem Kunstatelier\, Diana Riley Malereien\, Stefanie Freialdenhoven Acrylmischtechniken\, Rosemarie Küpper Kalligrafien\, Sonja Bergs Filzen\, Helga Feuser-Strasdas Glaskunst\, Susanne Gunkel-Lüttgen Schmuckgestaltung\, Myriam Woischnik Fotografie\, Michael Küpper Druckgrafiken und Gaby Meller Schönes zum Leben.  \n
URL:https://www.herzog-magazin.de/event/kunst-trifft-handwerk/
LOCATION:Schreinerei Freialdenhoven\, In der Ruraue 5\, Inden-Pier\, NRW\, 52459\, Deutschland
GEO:50.87134;6.41792
X-APPLE-STRUCTURED-LOCATION;VALUE=URI;X-ADDRESS=Schreinerei Freialdenhoven In der Ruraue 5 Inden-Pier NRW 52459 Deutschland;X-APPLE-RADIUS=500;X-TITLE=In der Ruraue 5:geo:6.41792,50.87134
CATEGORIES:Ausstellung,Kunst & Design
ATTACH;FMTTYPE=image/jpeg:https://www.herzog-magazin.de/wp-content/uploads/2018/08/KunstHandwerk-Kopie.jpg
END:VEVENT
END:VCALENDAR