    BEGIN:VCALENDAR
VERSION:2.0
PRODID:-//HERZOG Kultur- &amp; Stadtmagazin - ECPv4.9.2//NONSGML v1.0//EN
CALSCALE:GREGORIAN
METHOD:PUBLISH
X-WR-CALNAME:HERZOG Kultur- &amp; Stadtmagazin
X-ORIGINAL-URL:https://www.herzog-magazin.de
X-WR-CALDESC:Veranstaltungen im HERZOG Kultur- &amp; Stadtmagazin
BEGIN:VEVENT
DTSTART;TZID=Europe/Berlin:20250723T124500
DTEND;TZID=Europe/Berlin:20250723T124500
DTSTAMP:20260421T035231
CREATED:20250717T095314Z
LAST-MODIFIED:20250717T095314Z
UID:150802-1753274700-1753274700@www.herzog-magazin.de
SUMMARY:Kunstpause im Museum
DESCRIPTION:Das Museum Zitadelle bietet um 12.45 Uhr eine Mittagspause im Museum. 20 Minuten – Kunst auf den Punkt:\nIn der Mittagspause führt das Museum im Pulvermagazin des Museums Zitadelle kurz und fokussiert durch die Ausstellung. Ideal für Berufstätige\, Neugierige und alle\, die Kultur in den Alltag holen wollen und nie Zeit dazu finden. \nDer Eintritt beträgt 2 Euro. Mitarbeiter der Stadtverwaltung Jülich und Jahreskarte sind kostenfrei. Eine Anmeldung ist erforderlich \n
URL:https://www.herzog-magazin.de/event/kunstpause-im-museum/
LOCATION:Pulvermagazin der Zitadelle\, Zitadelle Jülich\, Jülich\, NRW\, 52428\, Deutschland
CATEGORIES:Geschichte,kulturelle Bildung,Kunst & Design
ATTACH;FMTTYPE=image/jpeg:https://www.herzog-magazin.de/wp-content/uploads/2022/08/Museum-Zitadelle-im-September-Pulvermagazin-und-Wälle-Netz.jpg
END:VEVENT
END:VCALENDAR