    BEGIN:VCALENDAR
VERSION:2.0
PRODID:-//HERZOG Kultur- &amp; Stadtmagazin - ECPv4.9.2//NONSGML v1.0//EN
CALSCALE:GREGORIAN
METHOD:PUBLISH
X-WR-CALNAME:HERZOG Kultur- &amp; Stadtmagazin
X-ORIGINAL-URL:https://www.herzog-magazin.de
X-WR-CALDESC:Veranstaltungen im HERZOG Kultur- &amp; Stadtmagazin
BEGIN:VEVENT
DTSTART;TZID=Europe/Berlin:20221028T190000
DTEND;TZID=Europe/Berlin:20221028T190000
DTSTAMP:20260423T101323
CREATED:20221021T103252Z
LAST-MODIFIED:20221103T153052Z
UID:91836-1666983600-1666983600@www.herzog-magazin.de
SUMMARY:Kunstverein: „Metamorphose“ im Hexenturm
DESCRIPTION:Die Ausstellung „Metamorphose“ des Künstlers Markus Boltz ist im Kunstverein Jülich e.V. vom 28. Oktober bis zum 20. November zu sehen. Der Künstler wird am Freitag\, 28. Oktober\, um 19 Uhr seine Ausstellung im Hexenturm persönlich mit einer Ansprache zu seiner Kunst eröffnen. Anschließend ist die Ausstellung samstags und sonntags von 11 bis 17 Uhr zu besichtigen. \nDie wilden und sehr expressiven Kunstwerke des Dinslakener Künstlers Markus Boltz beschäftigen sich mit dem Thema der Verwandlung der Menschen in der heutigen Gesellschaft. Das Ergebnis seiner Arbeiten beinhaltet eine Metamorphose von Personen und Gesichtern in andere Gestalten oder Zustände. Auf jeder Leinwand entstehen mystische\, groteske Gestalten und Fratzen. Die Darstellungen zeigen die dunkle und rätselhafte Seite der menschlichen Psyche. Sie wird im tiefsten Inneren häufig verborgen gehalten und stellt innerhalb unserer heutigen Gesellschaft eine Art Fassade dar. Eine Fassade wird zur Maskerade. Es entstehen zwei Welten\, die von Menschen häufig gewählt werden\, um eigene Probleme oder gar Unsicherheiten zu verbergen. Die Wirkung dieser Maskerade wird durch die expressive Darstellung seiner Skulpturen ebenfalls verstärkt. \nIm Stile des abstrakten Expressionismus präsentiert der aus Dinslaken stammende Künstler Markus Boltz mit seinen Gemälden und Skulpturen eine farbenfrohe Welt\, inhaltlich zeichnet er jedoch ein recht düsteres Bild der heutigen Gesellschaft. Hier werden schonungslos die Abgründe und Schwächen des Menschen aufgezeigt. Als Spiegelbild aktueller Verhältnisse weist er zugespitzt auf die Symbolik der Menschenmasse mit ihren vielen Gesichtern hin. Um das Phänomen verbreiteter Ignoranz und Gleichgültigkeit darzustellen\, greift er zu der provokanten Ausdrucksform dieser bizarren Gestalten und grotesken Fratzen. Allgemein herrscht Ratlosigkeit und Oberflächlichkeit\, sodass ein vernünftiger Gesellschaftsdialog häufig verborgen bleibt. \n
URL:https://www.herzog-magazin.de/event/kunstverein-metamorphose-im-hexenturm/2022-10-28/
LOCATION:Hexenturm\, Walramplatz\, Jülich\, 52428
GEO:50.9206663;6.3551803
X-APPLE-STRUCTURED-LOCATION;VALUE=URI;X-ADDRESS=Hexenturm Walramplatz Jülich 52428;X-APPLE-RADIUS=500;X-TITLE=Walramplatz:geo:6.3551803,50.9206663
CATEGORIES:Kunst & Design
ATTACH;FMTTYPE=image/jpeg:https://www.herzog-magazin.de/wp-content/uploads/2022/10/Ausstellung-Metamorphose-Markus-Boltz.jpg
ORGANIZER;CN="Kunstverein%20J%C3%BClich%20e.V.":MAILTO:kimuleh@gmx.de
END:VEVENT
END:VCALENDAR