    BEGIN:VCALENDAR
VERSION:2.0
PRODID:-//HERZOG Kultur- &amp; Stadtmagazin - ECPv4.9.2//NONSGML v1.0//EN
CALSCALE:GREGORIAN
METHOD:PUBLISH
X-WR-CALNAME:HERZOG Kultur- &amp; Stadtmagazin
X-ORIGINAL-URL:https://www.herzog-magazin.de
X-WR-CALDESC:Veranstaltungen im HERZOG Kultur- &amp; Stadtmagazin
BEGIN:VEVENT
DTSTART;TZID=Europe/Berlin:20230311T200000
DTEND;TZID=Europe/Berlin:20230311T200000
DTSTAMP:20260420T005733
CREATED:20230209T130420Z
LAST-MODIFIED:20230209T130706Z
UID:98901-1678564800-1678564800@www.herzog-magazin.de
SUMMARY:L.D. Stardust: Bowie-Cover im KuBa
DESCRIPTION:From Mars to Jülich: Aus dem Space Oddity-Orbit reist L.D. Stardust mit ihren Ziggies from Mars am Samstag\, 11. März\, in den Kulturbahnhof der Metropole des westlichen Rheinlands und verwandelt es in eine „Suffragette City“. Ab 20 Uhr gilt die Aufforderung: „Let’s dance!“ \nIm September 2015 starteten L.D. Stardust and the Ziggies from Mars im ausverkauften Kulturbahnhof Jülich ihre Reise als einmalig geplantes Projekt und kehrten seither regelmäßig wieder ein\, um Bowies Musik gebührend zu feiern. Zuletzt standen dort im Mai 2020 drei von zehn Bandmitgliedern für ein viel bejubeltes Streaming Konzert auf der Bühne. Viel zu lange herrschte Stille\, doch nun erhebt sich die Formation wie Lazarus von den Toten\, um den Kulturbahnhof endlich wieder gemeinsam mit dem Jülicher Publikum und allen Angereisten zu rocken. \nDie 10-köpfige Band hat sich mit Haut und Haaren dem Werk des englischen Pop- und Rockgenies David Bowie verschrieben. Dabei spielen sie nicht nur Klassiker\, sondern auch unbekanntere Stücke des englischen Multitalents hautnah am Original\, aber klingen tun sie doch ganz anders. Könnte an der Stimme der Frontfrau und Gründerin Lia Dolfus liegen… Über die Standardbesetzung hinaus vertreten sind Cello\, Kontrabass und Ukulele. Auch Backgroundsängerinnen brauchen nicht vermisst zu werden! \nOb es Life on Mars gibt\, bleibt ungewiss. Aber L.D. Stardust und die Ziggies from Mars werden Jülich definitiv mit viel Leben erfüllen! \nEinlass wird ab 19 Uhr gewährt. Der Eintritt beträgt im Vorverkauf 12 Euro inklusive Gebühren\, 16 Euro an der Abendkasse\, 10 Euro für Studenten und Schüler. Tickets sind online unter https://ztix.de/hp/events/15305/info oder bei der Buchhandlung Thalia erhältlich. \n
URL:https://www.herzog-magazin.de/event/l-d-stardust-bowie-cover-im-kuba/
LOCATION:Kulturbahnhof (KuBa) Jülich\, Bahnhofsstraße 13\, Jülich\, NRW\, 52428\, Deutschland
GEO:50.91828;6.36768
X-APPLE-STRUCTURED-LOCATION;VALUE=URI;X-ADDRESS=Kulturbahnhof (KuBa) Jülich Bahnhofsstraße 13 Jülich NRW 52428 Deutschland;X-APPLE-RADIUS=500;X-TITLE=Bahnhofsstraße 13:geo:6.36768,50.91828
CATEGORIES:Musik,Musik & Konzerte
ATTACH;FMTTYPE=image/jpeg:https://www.herzog-magazin.de/wp-content/uploads/2023/02/LD-Stardust-Foto-Marcel-Kanehl.jpg
ORGANIZER;CN="Stadt%20J%C3%BClich":MAILTO:info@juelich.de
END:VEVENT
END:VCALENDAR