    BEGIN:VCALENDAR
VERSION:2.0
PRODID:-//HERZOG Kultur- &amp; Stadtmagazin - ECPv4.9.2//NONSGML v1.0//EN
CALSCALE:GREGORIAN
METHOD:PUBLISH
X-WR-CALNAME:HERZOG Kultur- &amp; Stadtmagazin
X-ORIGINAL-URL:https://www.herzog-magazin.de
X-WR-CALDESC:Veranstaltungen im HERZOG Kultur- &amp; Stadtmagazin
BEGIN:VEVENT
DTSTART;TZID=Europe/Berlin:20260321T200000
DTEND;TZID=Europe/Berlin:20260321T200000
DTSTAMP:20260424T202455
CREATED:20260305T115151Z
LAST-MODIFIED:20260305T115151Z
UID:164974-1774123200-1774123200@www.herzog-magazin.de
SUMMARY:L.D. Stardust im KuBa
DESCRIPTION:Erstmals in ihrem inzwischen elfjährigen Bestehen lädt die Band L.D. Stardust zu einer Reise durch ein komplettes Album David Bowies ein. Das Konzert startet am Samstag\, 21. März um20 Uhr im Kulturbahnhof Jülich\, Bahnhofstraße 13. Einlass ist um 19.30 Uhr. \nIm Mittelpunkt steht „The Rise and Fall of Ziggy Stardust and the Spiders from Mars“ – eines der prägendsten Werke der Rockgeschichte und für L.D. Stardust eine besondere Herzensangelegenheit. Viele Songs des Albums gehören seit jeher zum Repertoire\, doch erstmals wird das Werk in voller Länge und in seiner ursprünglichen Dramaturgie auf die Bühne gebracht. Der rohe\, kantige Glam- und Proto-Punk-Sound dieser Bowie-Phase trifft dabei den musikalischen Kern der Band besonders direkt.\nDas 1972 erschienene Konzeptalbum erzählt die Geschichte des androgynen Rock-Messias Ziggy Stardust\, seines kometenhaften Aufstiegs und unvermeidlichen Falls. Zwischen Science-Fiction\, Größenwahn und Melancholie entstanden Songs- kompromisslos\, stilbildend und bis heute erstaunlich aktuell- die David Bowie endgültig zur Pop-Ikone machten.\nNach einer kurzen Pause folgt im zweiten Set eine Auswahl zentraler Bowie-Songs aus verschiedenen Schaffensphasen\, die L.D. Stardust nah am Original und doch unverkennbar im eigenen Klang präsentieren.\nSeit 2015 widmet sich die Band dem Künstler mit großer Besetzung\, weiblichem Leadgesang und außergewöhnlicher Instrumentierung. Neben Klassikern erklingen bewusst auch weniger bekannte Stücke\, interpretiert mit eigener Handschrift\, Spielfreude und großem Respekt vor dem Original. \nTickets gibt es im VVK für 15 Euro zzgl. Gebüren im KuBa-Kiosk oder unter www.kuba-juelich.de. An der AK kosten sie 20 Euro /erm. 5 Euro für Schüler und Studenten. \n
URL:https://www.herzog-magazin.de/event/l-d-stardust-im-kuba/
LOCATION:Kulturbahnhof (KuBa) Jülich\, Bahnhofsstraße 13\, Jülich\, NRW\, 52428\, Deutschland
GEO:50.91828;6.36768
X-APPLE-STRUCTURED-LOCATION;VALUE=URI;X-ADDRESS=Kulturbahnhof (KuBa) Jülich Bahnhofsstraße 13 Jülich NRW 52428 Deutschland;X-APPLE-RADIUS=500;X-TITLE=Bahnhofsstraße 13:geo:6.36768,50.91828
CATEGORIES:Musik,Musik & Konzerte
ATTACH;FMTTYPE=image/jpeg:https://www.herzog-magazin.de/wp-content/uploads/2025/03/2025_03_29_LDStardust-c-Volker-Goebels-320-NR-sRGB-scaled.jpg
ORGANIZER;CN="KuBa%20J%C3%BClich":MAILTO:info@kuba-juelich.de
END:VEVENT
END:VCALENDAR