    BEGIN:VCALENDAR
VERSION:2.0
PRODID:-//HERZOG Kultur- &amp; Stadtmagazin - ECPv4.9.2//NONSGML v1.0//EN
CALSCALE:GREGORIAN
METHOD:PUBLISH
X-WR-CALNAME:HERZOG Kultur- &amp; Stadtmagazin
X-ORIGINAL-URL:https://www.herzog-magazin.de
X-WR-CALDESC:Veranstaltungen im HERZOG Kultur- &amp; Stadtmagazin
BEGIN:VEVENT
DTSTART;TZID=Europe/Berlin:20190630T150000
DTEND;TZID=Europe/Berlin:20190630T000000
DTSTAMP:20260425T032030
CREATED:20190623T171602Z
LAST-MODIFIED:20190623T171602Z
UID:26138-1561906800-1561852800@www.herzog-magazin.de
SUMMARY:Landsynagoge Rödingen: Michael Rubinstein über Jüdisch sein im heutigen Deutschland
DESCRIPTION:Unter der Überschrift „Ohne Mit und Aber“ berichtet Michael Rubinstein\, Geschäftsführer des Landesverbandes der Jüdischen Gemeinden von Nordrhein\, über Jüdisch sein im heutigen Deutschland am Sonntag\, 30. Juni 2019\, um 15 Uhr im LVR-KULTURHAUS Landsynagoge Titz-Rödingen\, Mühlenend 1. Jüdisch und Deutsch klingt auch im Jahr 2019 noch fremd für viele Ohren. Anhand seiner persönlichen Eindrücke und Erfahrungen gewährt Michael Rubinstein als „Berufsjude“ einen subjektiven Einblick in das heutige jüdische (Gemeinde-) Leben in Deutschland zwischen Alltag und Antisemitismus – mit all seinen Chancen\, Schwierigkeiten und Perspektiven. Die Zuhörerinnen und Zuhörer haben anschließend die Möglichkeit für Rückfragen und Gespräche. \nMichael Rubinstein übernahm 2004 die Geschäftsführung der Jüdischen Gemeinde Duisburg-Mülheim/Ruhr-Oberhausen. 2012 rückte er durch seine Kandidatur als Duisburger Oberbürgermeister in den Fokus der Öffentlichkeit. Gemeinsam mit Lamya Kaddor veröffentlichte er das Buch „So fremd und doch so nah – Juden und Muslime in Deutschland“. Seit 2015 ist er Geschäftsführer des Landesverbandes der Jüdischen Gemeinden von Nordrhein\, ein Zusammenschluss von acht jüdischen Gemeinden im Landesteil Nordrhein des Bundeslandes NRW. Mit insgesamt rund 16.000 Gemeindemitgliedern ist der LVNR der größte Landesverband innerhalb des Zentralrats der Juden in Deutschland. \nDer Eintritt kostet 3 Euro (inklusive Besichtigung der Gebäude und der Dauerausstellung). \nwww.synagoge-roedingen.lvr.de\nwww.facebook.com/Landsynagoge \n
URL:https://www.herzog-magazin.de/event/landsynagoge-roedingen-michael-rubinstein-ueber-juedisch-sein-im-heutigen-deutschland/
LOCATION:LVR-Kulturhaus Landsynagoge Rödingen\, Mühlenend 1\, Titz-Rödingen\, NRW\, 52445\, Deutschland
CATEGORIES:Informationsveranstaltung,Politik,Religion,Vortrag
ATTACH;FMTTYPE=image/jpeg:https://www.herzog-magazin.de/wp-content/uploads/2019/06/Michael-Rubinstein-Netz.jpg
ORGANIZER;CN="LVR-KULTURHAUS%20Landsynagoge%20R%C3%B6dingen":MAILTO:landsynagoge@lvr.de
END:VEVENT
END:VCALENDAR