    BEGIN:VCALENDAR
VERSION:2.0
PRODID:-//HERZOG Kultur- &amp; Stadtmagazin - ECPv4.9.2//NONSGML v1.0//EN
CALSCALE:GREGORIAN
METHOD:PUBLISH
X-WR-CALNAME:HERZOG Kultur- &amp; Stadtmagazin
X-ORIGINAL-URL:https://www.herzog-magazin.de
X-WR-CALDESC:Veranstaltungen im HERZOG Kultur- &amp; Stadtmagazin
BEGIN:VEVENT
DTSTART;TZID=Europe/Berlin:20230517T200000
DTEND;TZID=Europe/Berlin:20230517T200000
DTSTAMP:20260422T075526
CREATED:20230309T145459Z
LAST-MODIFIED:20230309T145459Z
UID:102030-1684353600-1684353600@www.herzog-magazin.de
SUMMARY:Last Mai Day Party in Koslar
DESCRIPTION:Die Last Mai Day Party veranstaltet die Maigesellschaft aus Koslar und Engelsdorf erneut am Mittwoch vor Christi-Himmelfahrt\, 17. Mai. Diese stellt seit einigen Jahren den Auftakt zum jährlichen Maifest dar und soll Besuchern aus der gesamten Region ein angemessenes Party-Event bieten\, um ausgelassen in den Feiertag hinein-feiern zu können.  \nAuch in diesem Jahr setzt man auf den DJ Ogniral\, der bereits 2022 für zufriedene Besucher und eine volle Tanzfläche gesorgt hatte. Nachdem die Nachfrage im letzten Jahr immer größer wurde\, haben sich die Junggesellen in diesem Jahr dazu entschieden\, einen Imbisswagen zu organisieren\, sodass für das leibliche Wohl der Gäste gesorgt sein wird.  \nAußerdem wird man auf alt bewerte Klassiker wie „Happy-Hours“ für bestimmte Getränke setzen\, um den Besuchern einen gelungenen Abend bieten zu können.  Zur Last Mai Day Party stehen Besuchern ab 16 Jahren die Türen der Bürgerhalle in Koslar\, Rathausstraße 17\, ab 20 Uhr offen. \n
URL:https://www.herzog-magazin.de/event/last-mai-day-party-in-koslar/
LOCATION:Bürgerhalle Koslar\, Rathausstraße 17\, Jülich-Koslar\, NRW\, 52428\, Deutschland
GEO:50.9245;6.32467
X-APPLE-STRUCTURED-LOCATION;VALUE=URI;X-ADDRESS=Bürgerhalle Koslar Rathausstraße 17 Jülich-Koslar NRW 52428 Deutschland;X-APPLE-RADIUS=500;X-TITLE=Rathausstraße 17:geo:6.32467,50.9245
CATEGORIES:Essen & Trinken,Party
ATTACH;FMTTYPE=image/jpeg:https://www.herzog-magazin.de/wp-content/uploads/2023/03/Maigesellschaft-Koslar-Engelsdorf-Logo.jpg
ORGANIZER;CN="Maigesellschaft%20Koslar-Engelsdorf":MAILTO:praesident@maigesellschaft-koslar-engelsdorf.de
END:VEVENT
END:VCALENDAR