    BEGIN:VCALENDAR
VERSION:2.0
PRODID:-//HERZOG Kultur- &amp; Stadtmagazin - ECPv4.9.2//NONSGML v1.0//EN
CALSCALE:GREGORIAN
METHOD:PUBLISH
X-WR-CALNAME:HERZOG Kultur- &amp; Stadtmagazin
X-ORIGINAL-URL:https://www.herzog-magazin.de
X-WR-CALDESC:Veranstaltungen im HERZOG Kultur- &amp; Stadtmagazin
BEGIN:VEVENT
DTSTART;TZID=Europe/Berlin:20191104T170000
DTEND;TZID=Europe/Berlin:20191104T170000
DTSTAMP:20260424T022622
CREATED:20191030T101106Z
LAST-MODIFIED:20191101T204341Z
UID:30548-1572886800-1572886800@www.herzog-magazin.de
SUMMARY:Laterne\, Laterne: Martinszüge in Jülich
DESCRIPTION:Laterne\, Laterne\, Sonne Mond und Sterne… In den Kindergärten und Schulen bereiten sich die Kinder auf die Martinszüge vor. Die Geschichte des Hl. Martin wird erzählt\, Martinslieder gelernt und phantasievolle Laternen in den unterschiedlichsten Formen und Farben gebastelt. Damit alle gewappnet sind\, wenn der heilige Martin auf seinem Schimmel den Kindern vorausreitet. Stolz tragen diese ihre leuchtenden Laternen durch die dunklen Straßen. Zum Abschluss wird das Martinsfeuer angezündet und der begehrte Weckmann verteilt.  \nDie Zeiten der Martinszüge: \n4. November\nBarmen\, 17:00 Uhr\, (ab Kirche)\nKGS Jülich\, 17:00 Uhr\, (ab KGS)\nKita St. Marien“ Welldorf\, 18:00 Uhr\, (ab Kindergarten) \n5. November\nKita „Rappelkiste“ Lich-Steinstraß\, 17:30 Uhr (ab Sportplatz Süßkindweg)\nKita „Auf der Bastion“\, 18:00 Uhr\, (ab Aachener Tor)\nKita St. Franz Sales\, 18:00 Uhr (ab Franziskusstraße)\nKita St. Marien Jülich\, 18:00 Uhr (ab Schlossplatz)\nKita St. Rochus Jülich\, 18:00 Uhr (ab von-Reuschenberg-Straße)\nMerzenhausen\, 18:00 Uhr\, (ab Bürgerhalle)\nSelgersdorf\, 18:00 Uhr (ab Altenburger Straße)\nStetternich\, 18:00 Uhr (ab Kirche) \n6. November\nKita „Sternschnuppe“ Jülich\, 18:00 Uhr\nKita „Sonnenschein“ Jülich\, 18:00 Uhr\nKoslar\, 18:00 Uhr\, (ab Schule)\nWelldorf\, 18:00 Uhr\nBroich\, 18:30 Uhr \n7. November\nAltenburg\, 18:00 Uhr\, (ab Hubertus Kapelle Altenburg)\nGGS Süd / Promenadenschule\, 18:00 Uhr\, (ab Schulhof)\nKita St. Marien Stetternich\, 18:00 Uhr\, (ab Kirche) \n8. November\nGüsten\, 18:00 Uhr (ab Kirche)\nKirchberg\, 18:00 Uhr (ab Kirche)\nLich-Steinstraß\, 18:00 (ab Matthiasplatz)\nMersch / Pattern\, 18:00 Uhr (ab Kirche) \n12. November\nGGS Jülich-Nord\, 18:00 Uhr\, (ab Schulhof) \n13. November\nKita „Pusteblume“ Jülich\, 17:30 Uhr \n15. November\nBourheim\, 18:00 Uhr\, (ab St.-Mauri-Straße)\nKita „Unterm Regenbogen“ Koslar\, 18 Uhr (ab Crombachstraße) \n
URL:https://www.herzog-magazin.de/event/laterne-laterne-martinszuege-in-juelich/2019-11-04/
LOCATION:NRW\, Deutschland
CATEGORIES:Brauchtum,für Kinder
ATTACH;FMTTYPE=image/jpeg:https://www.herzog-magazin.de/wp-content/uploads/2017/11/Laternen-St-Martin-Juelich.jpg
END:VEVENT
END:VCALENDAR