    BEGIN:VCALENDAR
VERSION:2.0
PRODID:-//HERZOG Kultur- &amp; Stadtmagazin - ECPv4.9.2//NONSGML v1.0//EN
CALSCALE:GREGORIAN
METHOD:PUBLISH
X-WR-CALNAME:HERZOG Kultur- &amp; Stadtmagazin
X-ORIGINAL-URL:https://www.herzog-magazin.de
X-WR-CALDESC:Veranstaltungen im HERZOG Kultur- &amp; Stadtmagazin
BEGIN:VEVENT
DTSTART;TZID=Europe/Berlin:20191010T170000
DTEND;TZID=Europe/Berlin:20191010T170000
DTSTAMP:20260424T182617
CREATED:20190922T124458Z
LAST-MODIFIED:20190922T124458Z
UID:29497-1570726800-1570726800@www.herzog-magazin.de
SUMMARY:LEADER-Fotowettbewerbs „Lieblingsorte“
DESCRIPTION:Der Fotowettbewerb „Lieblingsorte“ der LAG Rheinisches Revier an Inde und Rur ist zu Ende. Jedes Foto ist eine Liebeserklärung an unsere Region. Die Jury hat sich viel Mühe geben müssen\, eine Reihenfolge der Gewinner herzustellen. Wer die Glücklichen sind\, wird am Donnerstag\, 10. Oktober\, um 17:00 Uhr im Rathaus Jülich (Galerie) bei einem kleinen Festakt bekannt gegeben. Der erste Vorsitzende und Bürgermeister Axel Fuchs wird die Prämierung vornehmen und gleichzeitig die dazugehörige Fotoausstellung eröffnen.  \nNeben den Preisen für die besten Bilder gibt es auch einen Preis für alle Teilnehmer. Es hat also jeder Teilnehmer schon gewonnen. Die Ausstellung wird bis zum 11. November im Rathaus Jülich in der Galerie im 1. OG zu sehen sein. \n
URL:https://www.herzog-magazin.de/event/leader-fotowettbewerbs-lieblingsorte/2019-10-10/
LOCATION:Neues Rathaus\, Große Rurstraße 17\, Jülich\, NRW\, 52428\, Deutschland
GEO:50.92136;6.36263
X-APPLE-STRUCTURED-LOCATION;VALUE=URI;X-ADDRESS=Neues Rathaus Große Rurstraße 17 Jülich NRW 52428 Deutschland;X-APPLE-RADIUS=500;X-TITLE=Große Rurstraße 17:geo:6.36263,50.92136
CATEGORIES:Ausstellung,Kunst & Design
ATTACH;FMTTYPE=image/jpeg:https://www.herzog-magazin.de/wp-content/uploads/2019/09/Preisverleihung-Fotowettbewerb-Leader-Netz.jpg
ORGANIZER;CN="Leader-Region%20Rheinisches%20Revier%20an%20Inde%20und%20Rur":MAILTO:leader@inde-rur.de
END:VEVENT
END:VCALENDAR